BEGIN:VCALENDAR
PRODID:-//Microsoft Corporation//Outlook 11.0 MIMEDIR//EN
VERSION:2.0
METHOD:PUBLISH
BEGIN:VEVENT
DTSTART:20260420
LOCATION:Galerie du Calvaire Rue du Château 2, 1663 Gruyères
TRANSP:OPAQUE
SEQUENCE:0
UID:6bf135b9-accb-4cb8-8963-4fcc7ae75d07-0
DTSTAMP:20260420T120000
DESCRIPTION:Hier werden Demonstrationen des Druckens auf einer Nachbildung der Gutenberg-Presse angeboten. Diese Präsentation lädt Besucherinnen und Besucher ein, in die Geschichte des Buchdrucks einzutauchen und die Funktionsweise dieser revolutionären Erfindung zu entdecken. Dabei können die Techniken und Handgriffe beobachtet werden, mit denen über Jahrhunderte hinweg Texte und Wissen verbreitet wurden.\n\nhttps://fribourg.ch/de/la-gruyere/veranstaltungen/exposition-8211-presse-gutenberg/\n\nKontakt\nGalerie du Calvaire\n1663 Gruyères\n+41 26 919 85 00\n\nVerfügbarkeit / Datum, Zeit\n20.4.2026 \n21.4.2026 \n22.4.2026 \n23.4.2026 \n24.4.2026 \n25.4.2026 \n26.4.2026 \n\n\nDas Angebot im Detail: https://www.guidle.com/angebote/1237219488/exposition__presse_gutenberg/gruyeres\nQuelle: www.guidle.com
SUMMARY:Exposition – Presse Gutenberg
PRIORITY:5
X-MICROSOFT-CDO-IMPORTANCE:1
CLASS:PUBLIC
BEGIN:VALARM
TRIGGER:-P1D
ACTION:DISPLAY
DESCRIPTION:Reminder
END:VALARM
END:VEVENT
END:VCALENDAR