BEGIN:VCALENDAR
PRODID:-//Microsoft Corporation//Outlook 11.0 MIMEDIR//EN
VERSION:2.0
METHOD:PUBLISH
BEGIN:VEVENT
DTSTART:20260425T200000
DTEND:20260426T030000
LOCATION:Musigbar Mariaberg Hauptstrasse 45, 9400 Rorschach
TRANSP:OPAQUE
SEQUENCE:0
UID:cdeadbca-7b93-4392-bdbf-45a30d116375-0
DTSTAMP:20260425T200000
DESCRIPTION:Es ist wieder Zeit – Ein Jahr weiter, ein Grund mehr zu feiern. Das «Tausend­tägige» macht seine Aufwartung zum Frühlings­beginn und lädt dieses Jahr zur Special Edition: Back to the roots im Mariaberg!\n\nEtwas kleiner im Format, aber gross im Versprechen. Auf zwei Floors könnt ihr euch gebannt den verschie­densten Klängen lauschen.\n\nProgramm:\n\nMain-Floor\n20.00 bis 23.00 Uhr: Hits & Hip Hop\n23.00 bis 01.00 Uhr: Tech House\n01.00 bis 03.00 Uhr: Techno\n\nTop-Floor\n20.00 bis 03.00 Uhr: Mainstream, Rock-Punk, Indie\n\nDie Tickets sind limitiert – Dä schneller isch dä gschwinder! Wir freuen uns auf dich!\n\nhttps://treppenhaus.ch/events/tausend-tage-treppenhaus-mariaberg-specialedition/\n\nKontakt\nVerein Treppenhaus\nKirchstrasse 3\n9400 Rorschach\n079 789 79 06\n\nVerfügbarkeit / Datum, Zeit\n25.4.2026 20:00 - 03:00\n\nPreis\nEarly Bird: CHF 15.00\nRegulär: CHF 20.00\n\nVorverkauf\nhttps://eventfrog.ch/de/p/partys/mottoparty/tausend-tage-treppenhaus-mariaberg-special-edition-7429758253033092076.html\n\n\nDas Angebot im Detail: https://www.guidle.com/angebote/1237637207/tausend_tage_treppenhaus_-_mariaberg_special_edition/rorschach\nQuelle: https://www.guidle.com
SUMMARY:Tausend Tage Treppenhaus - Mariaberg Special Edition
PRIORITY:5
X-MICROSOFT-CDO-IMPORTANCE:1
CLASS:PUBLIC
BEGIN:VALARM
TRIGGER:-P1D
ACTION:DISPLAY
DESCRIPTION:Reminder
END:VALARM
END:VEVENT
END:VCALENDAR