BEGIN:VCALENDAR
PRODID:-//Microsoft Corporation//Outlook 11.0 MIMEDIR//EN
VERSION:2.0
METHOD:PUBLISH
BEGIN:VEVENT
DTSTART:20260426T093000
LOCATION:Evang.-ref. Kirche Feldis Plaz 12, 7404 Feldis / Veulden
TRANSP:OPAQUE
SEQUENCE:0
UID:20f1291e-ef37-45d8-84c6-6f854cf2862c-0
DTSTAMP:20260426T093000
DESCRIPTION:Gottesdienst mit Pfr. Roman Brugger, Orgel und Sologesang Franziska Staehelin, anschliessend Kirchenkaffee\n\nVerfügbarkeit / Datum, Zeit\n26.4.2026 09:30 - \n\n\nDas Angebot im Detail: https://www.guidle.com/angebote/1238565080/gottesdienst_mit_pfr_roman_brugger/feldis__veulden\nQuelle: https://www.guidle.com
SUMMARY:Gottesdienst mit Pfr. Roman Brugger
PRIORITY:5
X-MICROSOFT-CDO-IMPORTANCE:1
CLASS:PUBLIC
BEGIN:VALARM
TRIGGER:-P1D
ACTION:DISPLAY
DESCRIPTION:Reminder
END:VALARM
END:VEVENT
END:VCALENDAR