BEGIN:VCALENDAR
PRODID:-//Microsoft Corporation//Outlook 11.0 MIMEDIR//EN
VERSION:2.0
METHOD:PUBLISH
BEGIN:VEVENT
DTSTART:20260604T183000
DTEND:20260604T203000
LOCATION:Volkshochschule Interlaken und Umgebung Alte Mühle / Spielmatte 3, 3800 Unterseen
TRANSP:OPAQUE
SEQUENCE:0
UID:4948d3b0-d2b7-4f5f-bae5-64c76b74a134-0
DTSTAMP:20260604T183000
DESCRIPTION:Was ist Künstliche Intelligenz, woher kommt sie und wohin will sie? Wir profitieren von KI im Alltag und sind dabei auch Gefahren ausgesetzt. Der Vortrag mit Künzler Reto, Biologe Dr. und Geschäftsführer, gibt Einblicke, zeigt Zusammenhänge auf und hilft, die Produkte der neuen Technologien zu erkennen und bewusst einzusetzen. Die Erkenntnisse ermöglichen eine kritische Diskussion und helfen bei der persönlichen Meinungsbildung. \n\nhttps://www.vhs-interlaken.ch/portfolio-item/kuenstliche-intelligenz-ki-chancen-und-risiken-einfuehrung/\n\nKontakt\nVolkshochschule Interlaken & Umgebung\nSpielmatte 3\n3800 Unterseen\n+41 33 821 06 88 \n\nVerfügbarkeit / Datum, Zeit\n4.6.2026 18:30 - 20:30\n\nPreis\nAbendkasse CHF 18.- Barzahlung \n\nVorverkauf\nReservierung erwünscht, Platzzahl beschränkt \nhttps://www.vhs-interlaken.ch/portfolio-item/kuenstliche-intelligenz-ki-chancen-und-risiken-einfuehrung/\n\n\nDas Angebot im Detail: https://www.guidle.com/angebote/1238941869/kunstliche_intelligenz_ki_chancen_und_risiken_einfuhrung/unterseen\nQuelle: https://www.guidle.com
SUMMARY:Künstliche Intelligenz (KI) Chancen und Risiken (Einführung)
PRIORITY:5
X-MICROSOFT-CDO-IMPORTANCE:1
CLASS:PUBLIC
BEGIN:VALARM
TRIGGER:-P1D
ACTION:DISPLAY
DESCRIPTION:Reminder
END:VALARM
END:VEVENT
END:VCALENDAR