BEGIN:VCALENDAR
PRODID:-//Microsoft Corporation//Outlook 11.0 MIMEDIR//EN
VERSION:2.0
METHOD:PUBLISH
BEGIN:VEVENT
DTSTART:20260426T170000
LOCATION:Gemeindezentrum AUA VIVA Via Raveras 25, 7180 Disentis / Mustér
TRANSP:OPAQUE
SEQUENCE:0
UID:d16e14be-7aed-4896-a11b-fccf3c4c8d7e-0
DTSTAMP:20260426T170000
DESCRIPTION:Herzliche Einladung zum Taizé mit Regina Wilms\n\nhttps://www.auaviva-cadi.ch\n\nKontakt\nGemeindezentrum Aua Viva Cadi\nManuela Orlik-Fry\nSekretariat\nVia Raveras 25\n7180 Disentis\n079 729 73 72\n\nVerfügbarkeit / Datum, Zeit\n26.4.2026 17:00 - \n\n\nDas Angebot im Detail: https://www.guidle.com/angebote/1238948634/taize_mit_regina_wilms/disentis__muster\nQuelle: https://www.guidle.com
SUMMARY:Taizé mit Regina Wilms
PRIORITY:5
X-MICROSOFT-CDO-IMPORTANCE:1
CLASS:PUBLIC
BEGIN:VALARM
TRIGGER:-P1D
ACTION:DISPLAY
DESCRIPTION:Reminder
END:VALARM
END:VEVENT
END:VCALENDAR