BEGIN:VCALENDAR
PRODID:-//Microsoft Corporation//Outlook 11.0 MIMEDIR//EN
VERSION:2.0
METHOD:PUBLISH
BEGIN:VEVENT
DTSTART:20260419
LOCATION:Château de Gruyères Rue du Château 8, 1663 Gruyères
TRANSP:OPAQUE
SEQUENCE:0
UID:d8c5f512-bae7-4609-8ae5-ba389d8fe3ed-0
DTSTAMP:20260419T120000
DESCRIPTION:Erkunden Sie jeden Winkel der alten Festung und finden Sie die verlorenen Eier des Schloss-Kranichs. Der majestätische Vogel hat eine kleine Belohnung für Sie vorbereitet, um sich für Ihre Hilfe zu bedanken. Begeben Sie sich nach Abschluss Ihrer Quest zum Schlossladen.\n\nhttps://fribourg.ch/de/la-gruyere/veranstaltungen/letrange-et-mysterieuse-affaire-des-oeufs-disparus/\n\nKontakt\nChâteau de Gruyères\n1663 Gruyères\n+41 (0)26 921 21 02\n\nVerfügbarkeit / Datum, Zeit\n19.4.2026 \n\n\nDas Angebot im Detail: https://www.guidle.com/angebote/1238962223/letrange_et_mysterieuse_affaire_des_ufs_disparus/gruyeres\nQuelle: www.guidle.com
SUMMARY:L’étrange et mystérieuse affaire des œufs disparus
PRIORITY:5
X-MICROSOFT-CDO-IMPORTANCE:1
CLASS:PUBLIC
BEGIN:VALARM
TRIGGER:-P1D
ACTION:DISPLAY
DESCRIPTION:Reminder
END:VALARM
END:VEVENT
END:VCALENDAR