BEGIN:VCALENDAR
PRODID:-//Microsoft Corporation//Outlook 11.0 MIMEDIR//EN
VERSION:2.0
METHOD:PUBLISH
BEGIN:VEVENT
DTSTART:20260424T200000
LOCATION:Pfarrhaussaal Heubergstrasse 24, 7235 Fideris
TRANSP:OPAQUE
SEQUENCE:0
UID:261cf660-bc16-4bba-8192-c6fba964e343-0
DTSTAMP:20260424T200000
DESCRIPTION:Alle Mitglieder der Evangelisch-reformierten Kirchgemeinde Fideris sind herzlich zur Versammlung eingeladen. Anschliessend servieren die Präparanden Kaffee und Kuchen.\n\n\nVerfügbarkeit / Datum, Zeit\n24.4.2026 20:00 - \n\n\nDas Angebot im Detail: https://www.guidle.com/angebote/1239287435/ordentliche_kirchgemeindeversammlung/fideris\nQuelle: https://www.guidle.com
SUMMARY:Ordentliche Kirchgemeindeversammlung
PRIORITY:5
X-MICROSOFT-CDO-IMPORTANCE:1
CLASS:PUBLIC
BEGIN:VALARM
TRIGGER:-P1D
ACTION:DISPLAY
DESCRIPTION:Reminder
END:VALARM
END:VEVENT
END:VCALENDAR