BEGIN:VCALENDAR
PRODID:-//Microsoft Corporation//Outlook 11.0 MIMEDIR//EN
VERSION:2.0
METHOD:PUBLISH
BEGIN:VEVENT
DTSTART:20260426T100000
LOCATION:Evang.-ref. Kirche Fläsch Kirchgass 4, 7306 Fläsch
TRANSP:OPAQUE
SEQUENCE:0
UID:a0832337-9c0f-45a6-a68d-09fe547e7cd6-0
DTSTAMP:20260426T100000
DESCRIPTION:Herzlich willkommen zu unserem  Gottesdienst in der Kirche Fläsch. Die Teilnehmer des Gospelworshops tragen mit dem Erlernten zur musikalischen Begleitung bei.\n\n\n\nhttps://www.flaesch-reformiert.ch\n\nKontakt\nEvang.-ref. Kirchgemeinde Fläsch\n7306 Fläsch\n\nVerfügbarkeit / Datum, Zeit\n26.4.2026 10:00 - \n\nPreis\nkeine (Kollekte)\n\n\nDas Angebot im Detail: https://www.guidle.com/angebote/1239288714/gottesdienst_in_der_kirche_flasch/flasch\nQuelle: https://www.guidle.com
SUMMARY:Gottesdienst in der Kirche Fläsch
PRIORITY:5
X-MICROSOFT-CDO-IMPORTANCE:1
CLASS:PUBLIC
BEGIN:VALARM
TRIGGER:-P1D
ACTION:DISPLAY
DESCRIPTION:Reminder
END:VALARM
END:VEVENT
END:VCALENDAR