BEGIN:VCALENDAR
PRODID:-//Microsoft Corporation//Outlook 11.0 MIMEDIR//EN
VERSION:2.0
METHOD:PUBLISH
BEGIN:VEVENT
DTSTART:20260430T170000
DTEND:20260430T183000
LOCATION:Macardo Swiss Distillery Frauenfelderstrasse 21, 8514 Amlikon-Bissegg
TRANSP:OPAQUE
SEQUENCE:0
UID:059077e9-d315-4bfc-9548-5ae884a87158-0
DTSTAMP:20260430T170000
DESCRIPTION:Ein Rundgang, der nach Genuss duftet: die Macardo Swiss Distillery lädt gemeinsam mit Thurgau Tourismus zu einer geführten Tour ein. Während der rund 1,5-stündigen Besichtigung zeigt sich das Zusammenspiel von Handwerk, Innovation und Leidenschaft - von den Grundlagen der Destillation bis zu den Geschichten, die in jedem Fass und jeder Spirituose stecken.\n\nDer Rundgang bietet Einblicke in die Herstellung und die Welt des Genusses. Vor Ort besteht die Möglichkeit, Fragen direkt zu klären. Dank der begrenzten Teilnehmerzahl von maximal 20 Personen bleibt die Führung in einem persönlichen und erlebnisreichen Rahmen.\n\nhttps://www.macardo.ch/\n\nKontakt\nMacardo Swiss Distillery GmbH\nFrauenfelderstrasse 21\n8514 Amlikon-Bissegg\n+41 71 652 60 00\n\nVerfügbarkeit / Datum, Zeit\n30.4.2026 17:00 - 18:30\n16.5.2026 14:00 - 15:30\n\nPreis\nCHF 45.00 pro Person\n\nVorverkauf\nhttps://www.macardo.ch/destillerie-fuehrung-30.-april\n\n\nDas Angebot im Detail: https://www.guidle.com/angebote/1239289070/macardo_-_fuhrung_inklusive_tasting/amlikon-bissegg\nQuelle: https://www.guidle.com
SUMMARY:Macardo - Führung inklusive Tasting
PRIORITY:5
X-MICROSOFT-CDO-IMPORTANCE:1
CLASS:PUBLIC
BEGIN:VALARM
TRIGGER:-P1D
ACTION:DISPLAY
DESCRIPTION:Reminder
END:VALARM
END:VEVENT
END:VCALENDAR