BEGIN:VCALENDAR
PRODID:-//Microsoft Corporation//Outlook 11.0 MIMEDIR//EN
VERSION:2.0
METHOD:PUBLISH
BEGIN:VEVENT
DTSTART:20260425T100000
DTEND:20260425T153000
LOCATION:Tanzstudio , Flamenco Tanz & Bewegung Konstanzerstrasse 3, 8274 Tägerwilen
TRANSP:OPAQUE
SEQUENCE:0
UID:eb41159d-f03e-43da-8015-a8e2c987357a-0
DTSTAMP:20260425T100000
DESCRIPTION:Flamenco-Workshop für Anfänger/Innen bis Fortgeschrittene\n\nProgramm Samstag/Sonntag:\n \n10:00-12:00 Rumba Verde (Anfänger/Innen)\n12:15-13.15 Technik (alle Niveaus)\n13.30-15.30 Tangos de Málaga (M-F)\n\nDie Kurse (A- alle Niveaus und M-F) können einzeln oder zusammen gebucht werden.\n\nhttps://www.flamencokultur.ch/veranstaltungen\n\nKontakt\nFörderverein für Flamenco Tanz und Kultur\nCarmen Ramos\nPräsidentin\n8280 Kreuzlingen\n+41787512262\n\nVerfügbarkeit / Datum, Zeit\n25.4.2026 10:00 - 15:30\n26.4.2026 10:00 - 15:30\n\nPreis\nPreise:\nChoreografie Anfänger CHF 140/ Choreografie Mittelstufe - Fortgeschrittene CHF 140\nTechnik alle Niveaus CHF 70\nChoreografie und Technik zusammen CHF 200\n\n\nDas Angebot im Detail: https://www.guidle.com/angebote/1239660524/flamenco-workshop_mit_bettina_castano/tagerwilen\nQuelle: https://www.guidle.com
SUMMARY:Flamenco-Workshop mit Bettina Castaño
PRIORITY:5
X-MICROSOFT-CDO-IMPORTANCE:1
CLASS:PUBLIC
BEGIN:VALARM
TRIGGER:-P1D
ACTION:DISPLAY
DESCRIPTION:Reminder
END:VALARM
END:VEVENT
END:VCALENDAR