BEGIN:VCALENDAR
PRODID:-//Microsoft Corporation//Outlook 11.0 MIMEDIR//EN
VERSION:2.0
METHOD:PUBLISH
BEGIN:VEVENT
DTSTART:20260424T100000
DTEND:20260426T180000
LOCATION:Association La Brocante des Amis Quai de Nogent, 1400 Yverdon-les-Bains
TRANSP:OPAQUE
RRULE:FREQ=WEEKLY;INTERVAL=1;UNTIL=20260426T180000;WKST=MO;BYDAY=FR
UID:04a1e756-649e-41e6-93e3-2454747b4c95-0
DTSTAMP:20260424T100000
DESCRIPTION:Nach jahrelanger Pause feiert der Flohmarkt am Quai de Nogent sein grosses Comeback in neuer Form, dynamischer und geselliger denn je!\n‎ \nDiese entlang der Thièle stattfindende, für Yverdon-les-Bains symbolträchtige Veranstaltung profitiert von einer idyllischen Kulisse, in der sich Wasser und Grün harmonisch miteinander verbinden.\n‎ \nDieser Flohmarkt ist die perfekte Gelegenheit, um zu bummeln, einzigartige Objekte zu entdecken und gesellige Momente mit Ausstellern und Besuchern zu teilen.\nOb Sie nun passionierter Schnäppchenjäger oder einfach nur neugierig sind, kommen Sie und entdecken Sie diese legendäre Veranstaltung in einer festlichen und neu belebten Atmosphäre wieder.\n‎ \nEin Termin, den Sie nicht verpassen sollten!\n\nhttp://brocantedesamis.ch\n\nKontakt\nAssociation La Brocante des Amis\nQuai de Nogent\n1400 Yverdon-les-Bains\n\nVerfügbarkeit / Datum, Zeit\n24.4.2026 - 26.4.2026 10:00 - 18:00 Fr\n24.4.2026 - 26.4.2026 09:00 - 18:00 Sa\n24.4.2026 - 26.4.2026 09:00 - 17:00 So\n\n\nDas Angebot im Detail: https://www.guidle.com/angebote/1239667741/trodelmarkt_am_quai_de_nogent/yverdon-les-bains\nQuelle: https://www.guidle.com
SUMMARY:Trödelmarkt am Quai de Nogent
PRIORITY:5
X-MICROSOFT-CDO-IMPORTANCE:1
CLASS:PUBLIC
BEGIN:VALARM
TRIGGER:-P1D
ACTION:DISPLAY
DESCRIPTION:Reminder
END:VALARM
END:VEVENT
END:VCALENDAR