BEGIN:VCALENDAR
PRODID:-//Microsoft Corporation//Outlook 11.0 MIMEDIR//EN
VERSION:2.0
METHOD:PUBLISH
BEGIN:VEVENT
DTSTART:20260423T100000
DTEND:20260430T190000
LOCATION:Heimatwerk Uraniastrasse 1, 8001 Zürich
TRANSP:OPAQUE
RRULE:FREQ=WEEKLY;INTERVAL=1;UNTIL=20260430T190000;WKST=MO;BYDAY=MO,TU,WE,TH,FR,SA
UID:26445637-675f-4dc5-8325-020dbd4619de-0
DTSTAMP:20260423T100000
DESCRIPTION:Graubünden kommt im April nach Zürich. Die Bündner Wochen zeigen Kulinarik, Kultur und Handwerk aus Graubünden – direkt erlebbar vor Ort.\n\nIm ganzen April gibt es Weindegustationen, Käseverkostungen, Lesungen, Kurse und Einblicke in traditionelle Handwerke. Ergänzt wird das Programm durch kulturelle Beiträge, Geschichten aus den Tälern und Begegnungen mit Produzent:innen und Kulturschaffenden.\n\nZusätzlich entsteht im Heimatwerk Zürich für einen Monat ein temporärer Bündner Markt: Über 100 Bündner Produkte sind vor Ort erhältlich – ein Sortiment, das nur während der Bündner Wochen verfügbar ist.\n\nDas Programm umfasst Degustationen, Vorträge, Lesungen, Kurse und kulturelle Formate. Zu den Highlights gehören:\n\n- Weindegustationen mit verschiedenen Bündner Weingütern\n- Käsedegustationen mit ausgewählten Produzent:innen\n- Einblicke in die Walser Kultur mit Lesungen und Kulinarik\n- Crashkurse in rätoromanischer Sprache\n- Vorträge und Workshops der Bündner Pärke\n- Tanzperformance «Moving Mountains» von graubünden cultura\n\nDas detaillierte Programm finden Sie online.\n\nhttps://www.graubuendenviva.ch/de/erleben/buendner-gastspiel-am-sechselaeuten\n\nKontakt\nVerein graubündenVIVA\nAlexanderstrasse 2\n7000 Chur\n+41 81 552 52 55\n\nVerfügbarkeit / Datum, Zeit\n2.4.2026 - 30.4.2026 10:00 - 19:00 Mo, Di, Mi, Do, Fr, Sa\n\nWährend den Öffnungszeiten des Heimatwerks Zürich. Programmpunkte gemäss separatem Zeitplan.\n\nPreis\nGratis (Ausnahme: Balsam selber herstellen: CHF 15.00 Unkostenbeitrag)\n\n\nDas Angebot im Detail: https://www.guidle.com/angebote/1241728008/bundner_wochen/zurich\nQuelle: www.guidle.com
SUMMARY:Bündner Wochen
PRIORITY:5
X-MICROSOFT-CDO-IMPORTANCE:1
CLASS:PUBLIC
BEGIN:VALARM
TRIGGER:-P1D
ACTION:DISPLAY
DESCRIPTION:Reminder
END:VALARM
END:VEVENT
END:VCALENDAR