BEGIN:VCALENDAR
PRODID:-//Microsoft Corporation//Outlook 11.0 MIMEDIR//EN
VERSION:2.0
METHOD:PUBLISH
BEGIN:VEVENT
DTSTART:20260425T110000
DTEND:20260425T180000
LOCATION:Musée d'art et d'histoire Rue de Morat 12, 1700 Fribourg
TRANSP:OPAQUE
SEQUENCE:0
UID:52926085-8049-452d-9ed5-b5b84276f491-0
DTSTAMP:20260425T110000
DESCRIPTION:Angesiedelt zwischen Traum und Hyperrealismus, Humor und Tragödie, Horror und Schönheit, nimmt uns das Werk des Freiburger Malers Olivier Zappelli mit auf eine farbenfrohe Reise. Die technische Virtuosität steht im Dienste eines ungezügelten Imaginären, in dem sich Gartenzwerge, mutierte Hamburger, Götter aus Indien, Skelette und üppige Frauen, Schweizer Landschaften und die Abgründe der modernen Zivilisation begegnen.\nDas Programm hier\n\nhttps://fribourg.ch/de/freiburg/veranstaltungen/oliver-zappelli/\n\nKontakt\nMusée d'Art et d'Histoire\n1700 Fribourg\n+41 26 305 51 40\n\nVerfügbarkeit / Datum, Zeit\n25.4.2026 11:00 - 18:00\n26.4.2026 11:00 - 18:00\n27.4.2026 01:00 - \n28.4.2026 11:00 - 18:00\n29.4.2026 11:00 - 18:00\n30.4.2026 11:00 - 20:00\n1.5.2026 11:00 - 18:00\n2.5.2026 11:00 - 18:00\n3.5.2026 11:00 - 18:00\n4.5.2026 01:00 - \n5.5.2026 11:00 - 18:00\n6.5.2026 11:00 - 18:00\n7.5.2026 11:00 - 20:00\n8.5.2026 11:00 - 18:00\n9.5.2026 11:00 - 18:00\n10.5.2026 11:00 - 18:00\n11.5.2026 01:00 - \n12.5.2026 11:00 - 18:00\n13.5.2026 11:00 - 18:00\n14.5.2026 11:00 - 20:00\n15.5.2026 11:00 - 18:00\n16.5.2026 11:00 - 18:00\n17.5.2026 11:00 - 18:00\n18.5.2026 01:00 - \n19.5.2026 11:00 - 18:00\n20.5.2026 11:00 - 18:00\n21.5.2026 11:00 - 20:00\n22.5.2026 11:00 - 18:00\n23.5.2026 11:00 - 18:00\n24.5.2026 11:00 - 18:00\n25.5.2026 01:00 - \n26.5.2026 11:00 - 18:00\n27.5.2026 11:00 - 18:00\n28.5.2026 11:00 - 20:00\n29.5.2026 11:00 - 18:00\n30.5.2026 11:00 - 18:00\n31.5.2026 11:00 - 18:00\n1.6.2026 01:00 - \n2.6.2026 11:00 - 18:00\n3.6.2026 11:00 - 18:00\n4.6.2026 11:00 - 20:00\n5.6.2026 11:00 - 18:00\n6.6.2026 11:00 - 18:00\n7.6.2026 11:00 - 18:00\n8.6.2026 01:00 - \n9.6.2026 11:00 - 18:00\n10.6.2026 11:00 - 18:00\n11.6.2026 11:00 - 20:00\n12.6.2026 11:00 - 18:00\n13.6.2026 11:00 - 18:00\n14.6.2026 11:00 - 18:00\n15.6.2026 01:00 - \n16.6.2026 11:00 - 18:00\n17.6.2026 11:00 - 18:00\n18.6.2026 11:00 - 20:00\n19.6.2026 11:00 - 18:00\n20.6.2026 11:00 - 18:00\n21.6.2026 11:00 - 18:00\n22.6.2026 01:00 - \n23.6.2026 11:00 - 18:00\n24.6.2026 11:00 - 18:00\n25.6.2026 11:00 - 20:00\n26.6.2026 11:00 - 18:00\n27.6.2026 11:00 - 18:00\n28.6.2026 11:00 - 18:00\n\n\nDas Angebot im Detail: https://www.guidle.com/angebote/1241766893/olivier_zappelli__explositions_/fribourg\nQuelle: https://www.guidle.com
SUMMARY:Olivier Zappelli: « Explositions »
PRIORITY:5
X-MICROSOFT-CDO-IMPORTANCE:1
CLASS:PUBLIC
BEGIN:VALARM
TRIGGER:-P1D
ACTION:DISPLAY
DESCRIPTION:Reminder
END:VALARM
END:VEVENT
END:VCALENDAR