BEGIN:VCALENDAR
PRODID:-//Microsoft Corporation//Outlook 11.0 MIMEDIR//EN
VERSION:2.0
METHOD:PUBLISH
BEGIN:VEVENT
DTSTART:20260427T110000
DTEND:20260503T180000
LOCATION:Arboretum du Vallon de l'Aubonne Chemin de Plan 92, 1170 Aubonne
TRANSP:OPAQUE
RRULE:FREQ=WEEKLY;INTERVAL=1;UNTIL=20260503T180000;WKST=MO;BYDAY=MO
UID:0d68cad1-48de-4c64-8ece-245de1aba9fa-0
DTSTAMP:20260427T110000
DESCRIPTION:Ausstellung zum Buch „En passant, un jour“ von Isaline, erschienen bei Entreligne (entreligne.ch). Die Ausstellung gliedert sich in zwei Teile:\n\n– Der Außenbereich besteht aus einem Spaziergang entlang des Uferwegs, der mit Hinweisschildern versehen ist. Diese laden die Besucher ein, über die mit den Bildern verbundenen Worte nachzudenken.\n\n– Die Hauptausstellung im Innenbereich präsentiert Originalwerke der Künstlerin, Vergrößerungen und spielerische Installationen für die ganze Familie.\nPreis: CHF 10.– für Erwachsene ab 18 Jahren. \nKinder haben freien Eintritt\n\nhttps://www.arboretum.ch/\n\nKontakt\nArboretum\nChemin de Plan 92\n1170 Aubonne\n\nVerfügbarkeit / Datum, Zeit\n28.3.2026 - 3.5.2026 11:00 - 18:00 Mo\n28.3.2026 - 3.5.2026 11:00 - 18:00 Di\n28.3.2026 - 3.5.2026 11:00 - 18:00 Mi\n28.3.2026 - 3.5.2026 11:00 - 18:00 Do\n28.3.2026 - 3.5.2026 11:00 - 18:00 Fr\n28.3.2026 - 3.5.2026 11:00 - 18:00 Sa\n28.3.2026 - 3.5.2026 11:00 - 18:00 So\n\nPreis\nPreise :\n* Erwachsene ab 18 Jahren : CHF ¤10.00\n* Kinder : Kostenlos\n\n\nDas Angebot im Detail: https://www.guidle.com/angebote/1241828518/ausstellung__ganz_nebenbei_eines_tages/aubonne\nQuelle: https://www.guidle.com
SUMMARY:Ausstellung – Ganz nebenbei, eines Tages
PRIORITY:5
X-MICROSOFT-CDO-IMPORTANCE:1
CLASS:PUBLIC
BEGIN:VALARM
TRIGGER:-P1D
ACTION:DISPLAY
DESCRIPTION:Reminder
END:VALARM
END:VEVENT
END:VCALENDAR