BEGIN:VCALENDAR
PRODID:-//Microsoft Corporation//Outlook 11.0 MIMEDIR//EN
VERSION:2.0
METHOD:PUBLISH
BEGIN:VEVENT
DTSTART:20260423T173000
LOCATION:Hotel Alex Lake Zürich Seestrasse 182, 8800 Thalwil
TRANSP:OPAQUE
RRULE:FREQ=WEEKLY;INTERVAL=1;UNTIL=20271231;WKST=MO;BYDAY=TH
UID:765003e4-6ef9-4c23-b558-be03eb6889eb-0
DTSTAMP:20260423T173000
DESCRIPTION:Starten Sie jeden Donnerstag ab 17.30 Uhr entspannt in den Abend im Alex Lake Zürich. Freuen Sie sich auf einen offerierten Welcome Drink, kleine italienische Köstlichkeiten und coole Beats vom Residence DJ. Feiern Sie den «Kleinen Freitag» bei Franciacorta und Negroni gemeinsam mit Freunden.\n\nhttps://alexlakezurich.com/de/\n\nKontakt\nAlex Lake Zürich\nSeestrasse 182\n8800 Thalwil\n+41 44 552 99 99\n\nVerfügbarkeit / Datum, Zeit\n1.1.2026 - 31.12.2027 17:30 -  Do\n\nPreis\nWelcome-Drink und Häppchen sind offeriert\n\nVorverkauf\nhttps://alexlakezurich.com/de/unsere-veranstaltungen/afterwork-aperitivo/\n\n\nDas Angebot im Detail: https://www.guidle.com/angebote/1243596705/afterwork_aperitivo_im_alex_lake_zurich/thalwil\nQuelle: www.guidle.com
SUMMARY:Afterwork Aperitivo im Alex Lake Zürich
PRIORITY:5
X-MICROSOFT-CDO-IMPORTANCE:1
CLASS:PUBLIC
BEGIN:VALARM
TRIGGER:-P1D
ACTION:DISPLAY
DESCRIPTION:Reminder
END:VALARM
END:VEVENT
END:VCALENDAR