BEGIN:VCALENDAR
PRODID:-//Microsoft Corporation//Outlook 11.0 MIMEDIR//EN
VERSION:2.0
METHOD:PUBLISH
BEGIN:VEVENT
DTSTART:20260426T110000
LOCATION:EXPLORiT Loisirs & Découvertes Avenue des Découvertes 1, 1400 Yverdon-les-Bains
TRANSP:OPAQUE
SEQUENCE:0
UID:5e7632cd-87d0-44ce-aeae-1a110ff3def0-0
DTSTAMP:20260426T110000
DESCRIPTION:Mitwirkende: \nÉvénements Hello June\n\nKontakt\nTicketcorner\n0900 800 800 (CHF 1.19/min.)\n\nVerfügbarkeit / Datum, Zeit\n26.4.2026 11:00 - \n\nPreis\nEntrée + 1 verre: 29,15 CHF\nEntrée + Brunch: 84,80 CHF\n\nVorverkauf\nhttps://www.ticketcorner.ch/artist/evenements-hello-june/hello-june-brunch-party-4121491/?affiliate=GUI&utm_source=GUI&utm_medium=dp&utm_campaign=guidle\n\n\nDas Angebot im Detail: https://www.guidle.com/angebote/1243655654/hello_june_brunch_party/yverdon-les-bains\nQuelle: https://www.guidle.com
SUMMARY:Hello June Brunch Party
PRIORITY:5
X-MICROSOFT-CDO-IMPORTANCE:1
CLASS:PUBLIC
BEGIN:VALARM
TRIGGER:-P1D
ACTION:DISPLAY
DESCRIPTION:Reminder
END:VALARM
END:VEVENT
END:VCALENDAR