BEGIN:VCALENDAR
PRODID:-//Microsoft Corporation//Outlook 11.0 MIMEDIR//EN
VERSION:2.0
METHOD:PUBLISH
BEGIN:VEVENT
DTSTART:20260423T134500
DTEND:20260423T163000
LOCATION:Naturmuseum Winterthur Museumstrasse 52, 8400 Winterthur
TRANSP:OPAQUE
SEQUENCE:0
UID:3ff0200f-2797-4708-a8fc-8a865514559e-0
DTSTAMP:20260423T134500
DESCRIPTION:In der Ferienwerkstatt tauchen wir gemeinsam in die spannende Unterwasserwelt ein. Wir entdecken faszinierende Fakten über Korallen, zum Beispiel, warum man sie bei uns nur in den Bergen findet. Lasse dich von ihren Formen und Farben inspirieren. Werde selber kreativ und gestalte deine eigenen kleinen Korallenriffe zum Mitnehmen.\n\nUm 16.00 Uhr ist der letzte Einlass für gestalterische Arbeiten.\n\nDie Ferienwerkstatt ist ein Angebot für daheimgebliebene Familien.\n\nhttps://www.natur.winterthur.ch\n\nKontakt\nNaturmuseum Winterthur\nMuseumstrasse 52\n8400 Winterthur\n052 267 51 66\n\nVerfügbarkeit / Datum, Zeit\n23.4.2026 13:45 - 16:30\n24.4.2026 13:45 - 16:30\n25.4.2026 13:45 - 16:30\n26.4.2026 13:45 - 16:30\n28.4.2026 13:45 - 16:30\n29.4.2026 13:45 - 16:30\n30.4.2026 13:45 - 16:30\n1.5.2026 13:45 - 16:30\n2.5.2026 13:45 - 16:30\n3.5.2026 13:45 - 16:30\n\nPreis\nCHF 5.00 Erwachsene\nCHF 3.00 reduzierter Eintritt\nBis 16 Jahre Eintritt frei\n\n\nDas Angebot im Detail: https://www.guidle.com/angebote/1243690379/unter_wasser/winterthur\nQuelle: www.guidle.com
SUMMARY:Unter Wasser 
PRIORITY:5
X-MICROSOFT-CDO-IMPORTANCE:1
CLASS:PUBLIC
BEGIN:VALARM
TRIGGER:-P1D
ACTION:DISPLAY
DESCRIPTION:Reminder
END:VALARM
END:VEVENT
END:VCALENDAR