BEGIN:VCALENDAR
PRODID:-//Microsoft Corporation//Outlook 11.0 MIMEDIR//EN
VERSION:2.0
METHOD:PUBLISH
BEGIN:VEVENT
DTSTART:20260426T090000
LOCATION:Ev.-ref. Kirche Tamins Kirchweg, 7015 Tamins
TRANSP:OPAQUE
SEQUENCE:0
UID:606e41d3-f893-41f4-af4f-90fb1fd7e949-0
DTSTAMP:20260426T090000
DESCRIPTION:Sonntag, 26. April \n09.00 Uhr, Kirche unterwegs – Wanderung mit Verein Jakobsweg GR\nZusammen mit dem Verein Jakobsweg GR sind wir Kirche unterwegs. Gottes Dienst einmal so: Aufbrechen mit Segen, laufen mit Impulsen, ankommen mit Erfülltsein. Von der Kirche Tamins aus machen wir uns auf dem Jakobsweg Graubünden auf zum Crestasee. Unterwegs begleiten uns vier kurze Impulse, ausgehend von Erfahrungen des Pilgerns und den Orten, an denen wir vorüberkommen. \nTreffpunkt ist um 9:00 bei der Kirche Tamins, Znüni-Pause machen wir in Trin-Digg und beim Crestasee kann man zum gemeinsamen Picknick-Zmittag noch verweilen. Der dreistündige Weg ist für Kinder ab Schulalter gut geeignet und wer nur einen Teil machen will, kann beim Parkplatz Via Pitogna bei Trin-Digg um ca. 10:30 dazustossen oder sich verabschieden. Verpflegung für Znüni und Zmittag bringt jede:r selbst mit. Wir freuen uns aufs gemeinsame Unterwegssein mit allen, die dabei sind.\n\nhttps://www.kirche-tamins.ch/\n\nKontakt\nEvang.-ref. Kirchgemeinde Tamins-Bonaduz-Rhäzüns\nStefan Schori\nPfarrer\nPorta Ginellas 10\n7402 Bonaduz\n0816411156\n\nVerfügbarkeit / Datum, Zeit\n26.4.2026 09:00 - \n\n\nDas Angebot im Detail: https://www.guidle.com/angebote/1243697355/kirche_unterwegs__wanderung_mit_verein_jakobsweg_gr/tamins\nQuelle: https://www.guidle.com
SUMMARY:Kirche unterwegs – Wanderung mit Verein Jakobsweg GR
PRIORITY:5
X-MICROSOFT-CDO-IMPORTANCE:1
CLASS:PUBLIC
BEGIN:VALARM
TRIGGER:-P1D
ACTION:DISPLAY
DESCRIPTION:Reminder
END:VALARM
END:VEVENT
END:VCALENDAR