BEGIN:VCALENDAR
PRODID:-//Microsoft Corporation//Outlook 11.0 MIMEDIR//EN
VERSION:2.0
METHOD:PUBLISH
BEGIN:VEVENT
DTSTART:20260420T093000
DTEND:20260424T160000
LOCATION:the ground Tanzschule Schöneggstrasse 145, 8953 Dietikon
TRANSP:OPAQUE
RRULE:FREQ=WEEKLY;INTERVAL=1;UNTIL=20260424T160000;WKST=MO;BYDAY=MO,TU,WE,TH,FR,SA,SU
UID:99f4162e-758a-4649-8e8a-07de6c93f396-0
DTSTAMP:20260420T093000
DESCRIPTION:Kinder und Jugendliche (6 - 12 Jahre) tauchen während fünf Tagen in die Welt des Tanzes ein – begleitet von unserem erfahrenen Team. Die Kids und Teens lernen verschiedene Tanzstile kennen – von Hip Hop über Commercial bis hin zu Breaking. Je nach Lehrperson variiert der Schwerpunkt. Dabei stehen der Spass an der Bewegung, das gemeinsame Erarbeiten von Choreos und das persönliche Wachsen im Mittelpunkt. Tanzerfahrung ist keine Voraussetzung – alle sind willkommen! Neben dem Tanzen wird auch gebastelt, gemalt und gespielt. Abwechslungsreiche Indoor- und Outdooraktivitäten sorgen für Ausgleich und neue Energie.\n\nhttps://www.thegrounddance.ch/feriencamps\n\nKontakt\nthe ground Tanzschule\nSchöneggstrasse 145\n8953 Dietikon\n079 633 56 78\n\nVerfügbarkeit / Datum, Zeit\n20.4.2026 - 24.4.2026 09:30 - 16:00\n\nCampzeit: 09:30-16:00\nVorbetreuung: 08:00-09:30\nNachbetreuung: 16:00-17:30\nAbschlussshow: Freitag, 15:30\n\nPreis\nCHF 340.-\nCHF 310.- für the ground Kund*innen\nCHF 15.- pro Betreuungsblock à 90 min\nGeschwisterrabatt\n\nVorverkauf\nhttps://www.thegrounddance.ch/feriencamps\n\n\nDas Angebot im Detail: https://www.guidle.com/angebote/1243709809/tanz-feriencamp_fur_kinder/dietikon\nQuelle: www.guidle.com
SUMMARY:Tanz-Feriencamp für Kinder
PRIORITY:5
X-MICROSOFT-CDO-IMPORTANCE:1
CLASS:PUBLIC
BEGIN:VALARM
TRIGGER:-P1D
ACTION:DISPLAY
DESCRIPTION:Reminder
END:VALARM
END:VEVENT
END:VCALENDAR