BEGIN:VCALENDAR
PRODID:-//Microsoft Corporation//Outlook 11.0 MIMEDIR//EN
VERSION:2.0
METHOD:PUBLISH
BEGIN:VEVENT
DTSTART:20260423T090000
DTEND:20260423T180000
LOCATION:Stadt- und Regionalbibliothek Bremgartnerstrasse 20, 8953 Dietikon
TRANSP:OPAQUE
SEQUENCE:0
UID:d26a8112-5f37-402c-b47c-006a507ca2df-0
DTSTAMP:20260423T090000
DESCRIPTION:Am Welttag des Buches dürfen Sie nach Herzenslust in den ausgemusterten Büchern der Bibliothek stöbern und diese gratis\nmitnehmen.\n\nhttps://www.dietikon.ch/stadtregiobibliothek/8239\n\nKontakt\nStadt Dietikon\nStadt- und Regionalbibliothek \nLukas Tobler\nLeitung\nBremgartnerstrasse 20\n8953 Dietikon\n044 744 36 36\n\nVerfügbarkeit / Datum, Zeit\n23.4.2026 09:00 - 18:00\n\nPreis\nkostenlose Teilnahme / keine Anmeldung erforderlich\n\n\nDas Angebot im Detail: https://www.guidle.com/angebote/1243733362/welttag_des_buches/dietikon\nQuelle: www.guidle.com
SUMMARY:Welttag des Buches
PRIORITY:5
X-MICROSOFT-CDO-IMPORTANCE:1
CLASS:PUBLIC
BEGIN:VALARM
TRIGGER:-P1D
ACTION:DISPLAY
DESCRIPTION:Reminder
END:VALARM
END:VEVENT
END:VCALENDAR