BEGIN:VCALENDAR
PRODID:-//Microsoft Corporation//Outlook 11.0 MIMEDIR//EN
VERSION:2.0
METHOD:PUBLISH
BEGIN:VEVENT
DTSTART:20260703T090000
LOCATION:Bergbahn Lenk - Stoos - Leiterli, Bergstation Leiterli, 3775 Lenk im Simmental
TRANSP:OPAQUE
SEQUENCE:0
UID:2c5c3310-bf9e-4171-beed-a098a1cf9f3a-0
DTSTAMP:20260703T090000
DESCRIPTION:Die Murmeli-Expedition\n\nIn Begleitung eines Rangers oder einer Rangerin werden Murmeltierfamilien in der Nähe der Bergstation Leiterli besucht und beobachtet. Neben dem Beobachten der Tiere bringt der Ranger den Teilnehmenden das Leben der Murmeltiere näher: Winterschlaf, Nahrung, Feinde, Kommunikation, Körperbau sind Themen welche spielerisch, mit Anschauungsmaterial und Vergleichen beleuchtet werden.\n\nDas Highlight fehlt nicht: Ferngläser raus, scharfstellen und aus der Ferne die Murmeltier-Familie beobachten. Ein echtes Naturabenteuer für die ganze Familie!\n\nDauer und Örtlichkeiten:\n\nTreffpunkt: 09.00 bei der Bergstation Leiterli\nDauer des Angebots: ca. 2.5 Stunden\nEnde der Expedition: 11.30 Uhr bei der Bergstation Leiterli\n\nDer Bewegungsradius der Expedition ist im Umkreis der Bergstation Leiterli, dem Hasler Hochmoor und dem Murmeli-Trail Betelberg.\n\nAnforderungen und Ausrüstung:\n\nKinder ab Vorschulstufe und marschtüchtig. Alle Kinder werden mindestens von einer erwachsenen Person begleitet.\nDie Exkursion wird in Mundart oder Deutscher Sprache durchgeführt\nHunde bleiben zu Hause – sie stellen eine Gefahr und Stressfaktor für Murmeltiere dar.\nGutes Schuhwerk, Sonnenschutz, der Witterung angepasste Kleidung, etwas Proviant und eine gefüllte Trinkflasche gehören zur Ausrüstung.\nVersicherungsschutz für die Teilnahme am Programm ist Sache der Teilnehmenden.\n\nTeilnehmerzahlen:\n\nMindestens 8 Personen\nMaximal 20 Personen\n\nPreise Murmeli-Expedition:\n\nHier geht es zur Preisübersicht: Preise Murmeli-Expedition\n\nAnmeldung erforderlich:\n\nE-Mail an info@adelboden-lenk.ch oder Telefonisch an +41 33 952 52 52\nbis 2 Tage im Voraus um 16.00 Uhr\n\nDurchführungsdaten:\n\nJeweils Freitags, Treffpunkt um 09.00 Uhr bei der Bergstation Leiterli\n\nFreitag, 3. Juli 2026\nFreitag, 10. Juli 2026\nFreitag, 17. Juli 2026\nFreitag, 24. Juli 2026\nFreitag, 31. Juli 2026\nFreitag, 7. August 2026\nFreitag, 14. August 2026\n\nAlle Informationen und Preise unter:\n\nwww.betelberg.ch/murmeli-expedition\n\nhttps://betelberg.ch/lenker-bergsommer/murmeli-expedition/\n\nKontakt\nOffen Support-Team Adelboden-Lenk\nBadstrasse 1\n3775 Lenk im Simmental\n+41 33 952 52 52\n\nVerfügbarkeit / Datum, Zeit\n3.7.2026 09:00 - \n10.7.2026 09:00 - \n17.7.2026 09:00 - \n24.7.2026 09:00 - \n31.7.2026 09:00 - \n7.8.2026 09:00 - \n14.8.2026 09:00 - \n\n\nDas Angebot im Detail: https://www.guidle.com/angebote/1243736541/murmeli-expedition_mit_dem_betelberg-ranger/lenk_im_simmental\nQuelle: https://www.guidle.com
SUMMARY:Murmeli-Expedition mit dem Betelberg-Ranger
PRIORITY:5
X-MICROSOFT-CDO-IMPORTANCE:1
CLASS:PUBLIC
BEGIN:VALARM
TRIGGER:-P1D
ACTION:DISPLAY
DESCRIPTION:Reminder
END:VALARM
END:VEVENT
END:VCALENDAR