BEGIN:VCALENDAR
PRODID:-//Microsoft Corporation//Outlook 11.0 MIMEDIR//EN
VERSION:2.0
METHOD:PUBLISH
BEGIN:VEVENT
DTSTART:20260421T120000
LOCATION:Jugendherberge Basel St. Alban-Kirchrain 10, 4052 Basel
TRANSP:OPAQUE
RRULE:FREQ=DAILY;INTERVAL=1
UID:4dad7072-aa0a-48a2-94d3-b290bbded6d7-0
DTSTAMP:20260421T120000
DESCRIPTION:Beim Weekend Retreat English & the Arts tauchst du in die kreative Welt von Kunst, Architektur und Design ein. Kombiniert wird das Ganze mit englischsprachigen Workshops, einem Museumsbesuch und inspirierenden Begegnungen. Lerne, sprich und erlebe Englisch inmitten der Kulturstadt Basel und von professionellen Native Speakern begleitet. \n\nhttps://www.youthhostel.ch/de/angebote/retreat-english-arts-basel\n\n24.04.2026 – 26.04.2026\n25.09.2026 – 27.09.2026\n\n\nDas Angebot im Detail: https://www.guidle.com/angebote/1244091117/jugendherberge_basel_levelup_english__the_arts/basel\nQuelle: https://www.guidle.com
SUMMARY:Jugendherberge Basel, LevelUp English & the Arts
PRIORITY:5
X-MICROSOFT-CDO-IMPORTANCE:1
CLASS:PUBLIC
BEGIN:VALARM
TRIGGER:-P1D
ACTION:DISPLAY
DESCRIPTION:Reminder
END:VALARM
END:VEVENT
END:VCALENDAR