BEGIN:VCALENDAR
PRODID:-//Microsoft Corporation//Outlook 11.0 MIMEDIR//EN
VERSION:2.0
METHOD:PUBLISH
BEGIN:VEVENT
DTSTART:20260423T163000
DTEND:20260423T172000
LOCATION:Fit 4 fun Tanzstudio Lerzenstrasse 21, 8953 Dietikon
TRANSP:OPAQUE
RRULE:FREQ=WEEKLY;INTERVAL=1;WKST=MO;BYDAY=TH
UID:eb3381bd-1d3f-48e5-88dd-9512738f606d-0
DTSTAMP:20260423T163000
DESCRIPTION:Das passt bestens, denn Everdance® tanzt man solo in der Gruppe. Einfache Tanzschritte aus dem Paartanz in Kombination mit zusätzlichen Bewegungselementen. Mit Cha Cha Cha, Lindy Hop oder Wiener Walzer Muskeln kräftigen, Kreislauf aktivieren und Beweglichkeit fördern. Tanzen für die Generation 60+ und alle Tanzbegeisterten. Alle sind herzliche Willkommen, es sind keine Vorkenntnisse nötig.\n\nhttps://www.linedance-dietikon.ch/everdance-mit-esther\n\nKontakt\nEsther Amstad\n\nVerfügbarkeit / Datum, Zeit\n9.4.2026 -  16:30 - 17:20 Do\n\n\nDas Angebot im Detail: https://www.guidle.com/angebote/1244091212/everdancekurs/dietikon\nQuelle: www.guidle.com
SUMMARY:Everdancekurs
PRIORITY:5
X-MICROSOFT-CDO-IMPORTANCE:1
CLASS:PUBLIC
BEGIN:VALARM
TRIGGER:-P1D
ACTION:DISPLAY
DESCRIPTION:Reminder
END:VALARM
END:VEVENT
END:VCALENDAR