BEGIN:VCALENDAR
PRODID:-//Microsoft Corporation//Outlook 11.0 MIMEDIR//EN
VERSION:2.0
METHOD:PUBLISH
BEGIN:VEVENT
DTSTART:20260424T113000
LOCATION:Repas de soutien
Morges Fleur du Léman Rte de Saint-Fiacre 5, 1112 Echichens
TRANSP:OPAQUE
SEQUENCE:0
UID:22569093-7a7b-4f21-a4d8-1c8b016e20db-0
DTSTAMP:20260424T113000
DESCRIPTION:Der 2012 gegründete Verein Morges Fleur du Léman organisiert das Tulpenfest und das Dahlienfest. Um diese kostenlosen Veranstaltungen weiterhin anbieten zu können, muss er einen grossen Teil seines Budgets selbst finanzieren. Das Unterstützungsessen trägt direkt zur Finanzierung dieser Veranstaltungen und zur Arbeit zahlreicher engagierter Freiwilliger bei.\n\n**Freitag, 24. April 2026 ab 11:30 Uhr / CHF 130.–** \n📍 Mehrzweckhalle Échichens\n\n**Obligatorische Anmeldung**\n\n* [events@fetedelatulipe.ch](mailto:events@fetedelatulipe.ch)\n**Freitag, 24. April 2026 ab 11:30 Uhr** \n📍 Mehrzweckhalle Échichens\n\n**Preis des Essens: CHF 130.– pro Person**\n\n* Apéro offeriert\n* 1 Flasche Wein für 4 Personen und Mineralwasser inbegriffen\n\n**Gratis-Transport**\n\n* MBC-Bus ab Bahnhof Morges bis Échichens\n\n**Obligatorische Anmeldung**\n\n* [events@fetedelatulipe.ch](mailto:events@fetedelatulipe.ch)\n\nhttp://www.fetedelatulipe.ch\n\nKontakt\nRepas de soutien, Morges Fleur du Léman\nevent\nRte de Saint-Fiacre 5\n1112 Echichens\n+41 (0)21 801 32 33\n\nVerfügbarkeit / Datum, Zeit\n24.4.2026 11:30 - \n\nPreis\nUnterstützungsessen Verein Morges Fleur du Léman :\n* pro Person : CHF ¤130.00\n\n\nDas Angebot im Detail: https://www.guidle.com/angebote/1244114557/unterstutzungsessen_tulpenfest_2026/echichens\nQuelle: https://www.guidle.com
SUMMARY:Unterstützungsessen Tulpenfest 2026
PRIORITY:5
X-MICROSOFT-CDO-IMPORTANCE:1
CLASS:PUBLIC
BEGIN:VALARM
TRIGGER:-P1D
ACTION:DISPLAY
DESCRIPTION:Reminder
END:VALARM
END:VEVENT
END:VCALENDAR