BEGIN:VCALENDAR
PRODID:-//Microsoft Corporation//Outlook 11.0 MIMEDIR//EN
VERSION:2.0
METHOD:PUBLISH
BEGIN:VEVENT
DTSTART:20260426T140000
DTEND:20260426T150000
LOCATION:Vitromusée Romont Rue du Château 108b, 1680 Romont FR
TRANSP:OPAQUE
SEQUENCE:0
UID:f133b430-03c5-40d1-b687-2b6852532ddb-0
DTSTAMP:20260426T140000
DESCRIPTION:Anmeldung : info@vitromusee.ch\nWährend 60 Minuten führt Sie die «Expérience tactile» auf einzigartige Weise in die faszinierende Welt der Glaskunst ein. Geleitet von der Schweizer Glaskünstlerin Magali Kocher, entführt Sie dieses Erlebnis in eine vielfältige und überraschende künstlerische Welt. Mithilfe des Tastsinns lernen wir verschiedene Glasarten und Arbeitstechniken zu verstehen. Eine von der Blindenschule Zollikofen angefertigte Kopie eines Werks aus der ständigen Sammlung des Vitromusée Romont hilft uns dabei, die Geheimnisse der Glaskunst aus dem frühen 20. Jahrhundert zu enthüllen.\n\nhttps://fribourg.ch/de/romontregion/veranstaltungen/vitromusee-romont-tastenerlebnis/\n\nKontakt\nVitromusée Romont\nRomont\n1680 Romont\n+41 26 652 10 95\n\nVerfügbarkeit / Datum, Zeit\n26.4.2026 14:00 - 15:00\n\n\nDas Angebot im Detail: https://www.guidle.com/angebote/1244120405/vitromusee_romont__tastenerlebnis/romont_fr\nQuelle: https://www.guidle.com
SUMMARY:Vitromusée Romont – Tastenerlebnis
PRIORITY:5
X-MICROSOFT-CDO-IMPORTANCE:1
CLASS:PUBLIC
BEGIN:VALARM
TRIGGER:-P1D
ACTION:DISPLAY
DESCRIPTION:Reminder
END:VALARM
END:VEVENT
END:VCALENDAR