BEGIN:VCALENDAR
PRODID:-//Microsoft Corporation//Outlook 11.0 MIMEDIR//EN
VERSION:2.0
METHOD:PUBLISH
BEGIN:VEVENT
DTSTART:20260827T180000
LOCATION:DÃ¼bendorf, 8600 Dübendorf
TRANSP:OPAQUE
SEQUENCE:0
UID:68713167-9841-487c-9d00-2eb824920da4-0
DTSTAMP:20260827T180000
DESCRIPTION:Sie üben mit Modelltests, wie Sie an die unterschiedlichen Aufgaben herangehen:\n\n- Aufbau der Prüfung (Prüfungsformat)\n- Gestaltung der Aufgaben\n- Lösen von Musteraufgaben auf den geforderten Sprachniveaus\n- Besprechung der Musteraufgaben\n- Tipps und Strategien für das Bearbeiten der Aufgaben\n- Beantworten Ihrer persönlichen Fragen\n\nAnmeldeschluss: 07.08.2026\nDauer: 2 x 150 Min. (inkl. Pause)\n\nVoraussetzungen:\nSie können sich mündlich und schriftlich auf Deutsch verständigen. Sie verstehen einfache Lesetexte. Ihre schriftlichen Deutsch-Kenntnisse (Lesen und Schreiben) sind auf Niveau A2. Ihre mündlichen Deutsch-Kenntnisse (Hören und Sprechen) sind auf Niveau B1 (gemäss GER =  ).\n\nZielgruppe:\nSie wollen sich einbürgern lassen und müssen dafür eine Standortbestimmung Deutsch absolvieren. Sie wollen wissen, wie die Deutsch-Prüfung aussieht. Sie haben schon lange keine Prüfung mehr gemacht. Sie wissen nicht, ob Ihre Deutsch-Kenntnisse den Anforderungen entsprechen. Sie wollen sich sicher fühlen für die Deutsch-Prüfung zur Einbürgerung.\n\nKursziel:\nNach dem Kurs fühlen Sie sich sicher, um an der Deutsch-Prüfung für die Einbürgerung teilzunehmen.\n\n- Sie sind mit dem Aufbau der Prüfung vertraut.\n- Sie können die vier Sprachkompetenzen Lesen, Hören, Sprechen und Schreiben unterscheiden.\n- Sie verstehen die einzelnen Prüfungsaufgaben.\n- Sie wenden die vermittelten Arbeits- und Lerntechniken sowie Prüfungsstrategien selbstständig an.\n- Sie werden sicher im Umgang mit den geforderten Aufgaben.\n- Sie erhöhen Ihre eigenen Sprachkompetenzen.\n\nhttps://www.wbk.ch/kurse/kursdetail/?course=26S-PV-KDE1\n\nKontakt\nWBK Dübendorf\nBettlistrasse 22\n8600 Dübendorf\n044 801 84 84\n\nVerfügbarkeit / Datum, Zeit\n27.8.2026 18:00 - \n\nPreis\nCHF 180.00\n\nVorverkauf\nhttps://www.wbk.ch/kurse/kursdetail/?course=26S-PV-KDE1\n\n\nDas Angebot im Detail: https://www.guidle.com/angebote/1244484015/deutsch_vorbereitung_zur_einburgerung/dubendorf\nQuelle: https://www.guidle.com
SUMMARY:Deutsch, Vorbereitung zur Einbürgerung
PRIORITY:5
X-MICROSOFT-CDO-IMPORTANCE:1
CLASS:PUBLIC
BEGIN:VALARM
TRIGGER:-P1D
ACTION:DISPLAY
DESCRIPTION:Reminder
END:VALARM
END:VEVENT
END:VCALENDAR