BEGIN:VCALENDAR
PRODID:-//Microsoft Corporation//Outlook 11.0 MIMEDIR//EN
VERSION:2.0
METHOD:PUBLISH
BEGIN:VEVENT
DTSTART:20260501T093000
DTEND:20260501T103000
LOCATION:Bergrestaurant Foppa, 7017 Flims Dorf
TRANSP:OPAQUE
SEQUENCE:0
UID:9dadaac2-d31e-4b0c-abb1-993266f74220-0
DTSTAMP:20260501T093000
DESCRIPTION:Gemeinsam feiern wir die Eröffnung des Foppa Trails, des ersten grünen Biketrails in der Region Flims Laax.\n\nFreu dich auf einen neuen, einsteigerfreundlichen Trail mit viel Flow und wunderschöner Bergkulisse. Sei dabei, wenn der Trail offiziell eröffnet wird und erlebe den ersten gemeinsamen Ride.\n\nProgramm:\n09.30 Uhr: Begrüssung auf Foppa\n09.45 Uhr: Eröffnung & Foto\n10.00 Uhr: Gemeinsamer First Ride nach Flims\n\nTreffpunkt: Bergstation Foppa\n\nhttps://www.flimslaax.com/biken\n\nKontakt\nFlims Laax Falera Management AG\nEventmanagement\nVia Nova 62\n7017 Flims Dorf\n0815251961\n\nVerfügbarkeit / Datum, Zeit\n1.5.2026 09:30 - 10:30\n\n\nDas Angebot im Detail: https://www.guidle.com/angebote/1244847700/eroffnung_foppa_trail__first_ride/flims_dorf\nQuelle: https://www.guidle.com
SUMMARY:Eröffnung Foppa Trail – First Ride
PRIORITY:5
X-MICROSOFT-CDO-IMPORTANCE:1
CLASS:PUBLIC
BEGIN:VALARM
TRIGGER:-P1D
ACTION:DISPLAY
DESCRIPTION:Reminder
END:VALARM
END:VEVENT
END:VCALENDAR