BEGIN:VCALENDAR
PRODID:-//Microsoft Corporation//Outlook 11.0 MIMEDIR//EN
VERSION:2.0
METHOD:PUBLISH
BEGIN:VEVENT
DTSTART:20260530T093000
DTEND:20260530T170000
LOCATION:SENSIB Thai Massage Zürich Thurgauerstrasse 113, 8152 Glattpark (Opfikon)
TRANSP:OPAQUE
SEQUENCE:0
UID:7c43aa6e-1a59-4abd-816a-ca37695ccae6-0
DTSTAMP:20260530T093000
DESCRIPTION:Die traditionelle Kunst der Thai Massage, Nuad Thai genannt, ist eine höchst effektive Massagetechnik, die sich von den westlichen Methoden deutlich unterscheidet. Nuad Thai ist eine Gesundheitstherapie und folgt dem Konzept der Sen. Akupressur mit Händen und Füssen sowie Dehnungen werden behutsam und achtsam am locker bekleideten Körper ausgeführt.\n\nDie Nuad Thai Massage wirkt gleichsam auf den energetischen und physischen Körper. Sie ist nicht nur weltberühmt und einzigartig sondern auch als UNESCO Weltkulturerbe ausgezeichnet.\n\nErlerne diese fantastische Technik der Nuad Thai Ganzkörpermassage nach zentralthailändischem Stil des Wat Pho, Bangkok in professioneller Schulung bei SENSIB Thai Massage Zürich. Die Ausbildung umfasst vier Tage und ist aufgeteilt in diesen Grundkurs und den Fortbildungskurs, welcher idealerweise gleich anschliessend gemacht werden sollte.\n\nhttps://sensib.ch\n\nKontakt\nSENSIB Thai Massage Zürich\nThurgauerstrasse 113\n8152 Glattpark Zürich\n0442724045\n\nVerfügbarkeit / Datum, Zeit\n30.5.2026 09:30 - 17:00\n31.5.2026 09:30 - 17:00\n\nPreis\n390\n\n\nDas Angebot im Detail: https://www.guidle.com/angebote/1245739653/nuad_thai_massage_kurs_grundkurs/glattpark_opfikon\nQuelle: https://www.guidle.com
SUMMARY:Nuad Thai Massage Kurs (Grundkurs)
PRIORITY:5
X-MICROSOFT-CDO-IMPORTANCE:1
CLASS:PUBLIC
BEGIN:VALARM
TRIGGER:-P1D
ACTION:DISPLAY
DESCRIPTION:Reminder
END:VALARM
END:VEVENT
END:VCALENDAR