BEGIN:VCALENDAR
PRODID:-//Microsoft Corporation//Outlook 11.0 MIMEDIR//EN
VERSION:2.0
METHOD:PUBLISH
BEGIN:VEVENT
DTSTART:20260426T141500
LOCATION:Evang.-ref. Dorfkirche Samedan Crappun 27, 7503 Samedan
TRANSP:OPAQUE
SEQUENCE:0
UID:f5c1bc63-7ed3-4fae-a0c8-5d47800c811d-0
DTSTAMP:20260426T141500
DESCRIPTION:Sonntag Jubilate: Begleitet von der Orgel singen wir die schönsten Lieder aus dem Coral und dem reformierten Kirchengesangbuch. Dazwischen kurze Texte und Geschichten zu den Liedern. Gesangliche Vorkenntnisse sind nicht nötig.\n\nKontakt\nWalter Isler\nKirchenführungen\nVia Maistra 28\n7502 Bever\n081 852 54 44\n\nVerfügbarkeit / Datum, Zeit\n26.4.2026 14:15 - \n\n\nDas Angebot im Detail: https://www.guidle.com/angebote/1246064937/gemeinsames_singen_aus_dem_coral_und_dem_kirchengesangbuch/samedan\nQuelle: https://www.guidle.com
SUMMARY:Gemeinsames Singen aus dem Coral und dem Kirchengesangbuch
PRIORITY:5
X-MICROSOFT-CDO-IMPORTANCE:1
CLASS:PUBLIC
BEGIN:VALARM
TRIGGER:-P1D
ACTION:DISPLAY
DESCRIPTION:Reminder
END:VALARM
END:VEVENT
END:VCALENDAR