BEGIN:VCALENDAR
PRODID:-//Microsoft Corporation//Outlook 11.0 MIMEDIR//EN
VERSION:2.0
METHOD:PUBLISH
BEGIN:VEVENT
DTSTART:20260508T170000
DTEND:20260508T183000
LOCATION:Alterszentrum Grüt Im Grüt 3, 5507 Mellingen
TRANSP:OPAQUE
SEQUENCE:0
UID:1e5f8f1e-8f34-4eeb-b9f3-798d7d90c3ae-0
DTSTAMP:20260508T170000
DESCRIPTION:Auf dieser Städtliführung steht das kostbarste Edelstein der Erde im Zentrum: Das Salz. Interessierte erfahren über die Kostbarkeit von Salz für Mensch und Tier, wie es über die Salzstrassen nach Mellingen gelangte und wieso das Städtli ein wichtiger Umschlagplatz dafür war. Noch heute sind zahlreiche Redewendungen mit Salz in unserem Sprachgebrauch.\n\n\n\nhttps://www.mellingen.ch/freizeit/oeffentliche-staedtlifuehrungen.html/266\n\nKontakt\nStadtverwaltung Mellingen\nGrosse Kirchgasse 23\n5507 Mellingen\n056 481 88 20\n056 481 88 33\n\nVerfügbarkeit / Datum, Zeit\n8.5.2026 17:00 - 18:30\n\nPreis\nCHF 10.00\n\nVorverkauf\nhttps://www.mellingen.ch/freizeit/veranstaltungen/detail.html/16/event/5762/eventdate/5538\n\n\nDas Angebot im Detail: https://www.guidle.com/angebote/1246482783/stadtlifuhrung_salz_-_das_weisse_gold/mellingen\nQuelle: https://www.guidle.com
SUMMARY:Städtliführung Salz - Das weisse Gold
PRIORITY:5
X-MICROSOFT-CDO-IMPORTANCE:1
CLASS:PUBLIC
BEGIN:VALARM
TRIGGER:-P1D
ACTION:DISPLAY
DESCRIPTION:Reminder
END:VALARM
END:VEVENT
END:VCALENDAR