BEGIN:VCALENDAR
PRODID:-//Microsoft Corporation//Outlook 11.0 MIMEDIR//EN
VERSION:2.0
METHOD:PUBLISH
BEGIN:VEVENT
DTSTART:20260423T183000
DTEND:20260423T193000
LOCATION:Om-Center, 3OG links Bahnstrasse 102, 8105 Regensdorf
TRANSP:OPAQUE
SEQUENCE:0
UID:4618a7dc-5cd7-4274-8085-e6e16c835c61-0
DTSTAMP:20260423T183000
DESCRIPTION:Aktuelles Programm und weitere Termine online unter www.om-center.ch \n2x pro Monat bieten wir unsere Klangreisen in Regensdorf an. Alle anderen Termine finden in Baden statt.\n\n\n\nHerz und Intuition\n\nDas Herz ist das Tor, die Intuition der Kompass. Ist das Herz offen, ist die Sicht klar und Veränderungen gelingen mühelos. Die Klangschwingung dringt tief ein, löst alte emotionale und mentale Strukturen auf und passt Körper und Bewusstsein an den neuen Rhythmus der Wirklichkeit an.\n\n\n\nWas aktiviert werden kann:\n\n\n\n– Öffnung und Harmonisierung des Herzchakras\n\n– Reinigung und Aktivierung des dritten Auges\n\n– Loslassen alter Denkmuster und Abwehrmechanismen\n\n– Eine klarere innere Vision und Intuition.\n\n– Tiefe Erdung und ein Gefühl der Stabilität.\n\n– Innere Einheit und Harmonie.\n\n– Der Klang wird dich leiten.\n\n– Dein Herz wird sich öffnen.\n\n\n\nDeine Intuition wird dir den Weg weisen.\n\n\n\n\nhttps://om-center.ch/klangreisen/\n\nKontakt\nOm-Center Baden\nRené Meier\nInhaber\nLandstrasse 1\n5415 Baden\n0762626329\n\nVerfügbarkeit / Datum, Zeit\n23.4.2026 18:30 - 19:30\n24.4.2026 17:30 - 18:30\n24.4.2026 19:30 - 20:30\n25.4.2026 17:00 - 18:00\n25.4.2026 19:00 - 20:00\n\nPreis\n35.- / Person\n\nVorverkauf\nhttps://eventfrog.ch/de/p/gruppen/soundhealing-klangreisen-mit-gong-und-kristallschalen-7442883757588119122.html\n\n\nDas Angebot im Detail: https://www.guidle.com/angebote/1246492228/klangreise_-_soundhealing_mit_gong_und_kristallschalen_-_1h/regensdorf\nQuelle: www.guidle.com
SUMMARY:Klangreise - Soundhealing mit Gong und Kristallschalen - 1h
PRIORITY:5
X-MICROSOFT-CDO-IMPORTANCE:1
CLASS:PUBLIC
BEGIN:VALARM
TRIGGER:-P1D
ACTION:DISPLAY
DESCRIPTION:Reminder
END:VALARM
END:VEVENT
END:VCALENDAR