BEGIN:VCALENDAR
PRODID:-//Microsoft Corporation//Outlook 11.0 MIMEDIR//EN
VERSION:2.0
METHOD:PUBLISH
BEGIN:VEVENT
DTSTART:20260424T090000
DTEND:20261031T120000
LOCATION:Tessitura Valposchiavo, Palazzo De Bassus-Mengotti Via da Spultri, 7742 Poschiavo
TRANSP:OPAQUE
RRULE:FREQ=WEEKLY;INTERVAL=1;UNTIL=20261031T120000;WKST=MO;BYDAY=MO,TU,WE,TH,FR,SA
UID:82cfb40e-3cc7-4f1b-8fb7-bdf19ff488c3-0
DTSTAMP:20260424T090000
DESCRIPTION:Traditionelles Handwerk\n\nDie Weberei „Pro Tessitura“ in der Valposchiavo ist eine der letzten professionellen Handwerkswebereien der Schweiz. Für die Herstellung hochwertiger Stoffe werden Baumwolle, Leinen, Hanf, Wolle und Seide verwendet. Im Laden können Sie Meterware, Haushaltsartikel und vieles mehr erwerben.\n\nÖFFNUNGSZEITEN\nDienstag – Samstag / 9.00 – 12.00 Uhr, 14.00 – 17.30 Uhr\nAuf Anmeldung: Kostenlose Besichtigung des Ateliers oder Führung (1 Stunde), gegen Gebühr\n\nhttps://www.tessitura.ch\n\nKontakt\nTessitura Valposchiavo\nVia da Spultri\n7742 Poschiavo\n081 844 05 03\n\nVerfügbarkeit / Datum, Zeit\n7.4.2026 - 31.10.2026 09:00 - 12:00 Mo, Di, Mi, Do, Fr, Sa\n7.4.2026 - 31.10.2026 14:00 - 17:30 Mo, Di, Mi, Do, Fr, Sa\n\n\nDas Angebot im Detail: https://www.guidle.com/angebote/1246887772/tessitura_valposchiavo_-_handweberei/poschiavo\nQuelle: https://www.guidle.com
SUMMARY:Tessitura Valposchiavo - Handweberei
PRIORITY:5
X-MICROSOFT-CDO-IMPORTANCE:1
CLASS:PUBLIC
BEGIN:VALARM
TRIGGER:-P1D
ACTION:DISPLAY
DESCRIPTION:Reminder
END:VALARM
END:VEVENT
BEGIN:VEVENT
DTSTART:20260424T090000
DTEND:20261031T120000
LOCATION:Tessitura Valposchiavo, Palazzo De Bassus-Mengotti Via da Spultri, 7742 Poschiavo
TRANSP:OPAQUE
RRULE:FREQ=WEEKLY;INTERVAL=1;UNTIL=20261031T120000;WKST=MO;BYDAY=MO,TU,WE,TH,FR,SA
UID:82cfb40e-3cc7-4f1b-8fb7-bdf19ff488c3-1
DTSTAMP:20260424T090000
DESCRIPTION:Traditionelles Handwerk\n\nDie Weberei „Pro Tessitura“ in der Valposchiavo ist eine der letzten professionellen Handwerkswebereien der Schweiz. Für die Herstellung hochwertiger Stoffe werden Baumwolle, Leinen, Hanf, Wolle und Seide verwendet. Im Laden können Sie Meterware, Haushaltsartikel und vieles mehr erwerben.\n\nÖFFNUNGSZEITEN\nDienstag – Samstag / 9.00 – 12.00 Uhr, 14.00 – 17.30 Uhr\nAuf Anmeldung: Kostenlose Besichtigung des Ateliers oder Führung (1 Stunde), gegen Gebühr\n\nhttps://www.tessitura.ch\n\nKontakt\nTessitura Valposchiavo\nVia da Spultri\n7742 Poschiavo\n081 844 05 03\n\nVerfügbarkeit / Datum, Zeit\n7.4.2026 - 31.10.2026 09:00 - 12:00 Mo, Di, Mi, Do, Fr, Sa\n7.4.2026 - 31.10.2026 14:00 - 17:30 Mo, Di, Mi, Do, Fr, Sa\n\n\nDas Angebot im Detail: https://www.guidle.com/angebote/1246887772/tessitura_valposchiavo_-_handweberei/poschiavo\nQuelle: https://www.guidle.com
SUMMARY:Tessitura Valposchiavo - Handweberei
PRIORITY:5
X-MICROSOFT-CDO-IMPORTANCE:1
CLASS:PUBLIC
BEGIN:VALARM
TRIGGER:-P1D
ACTION:DISPLAY
DESCRIPTION:Reminder
END:VALARM
END:VEVENT
END:VCALENDAR