BEGIN:VCALENDAR
PRODID:-//Microsoft Corporation//Outlook 11.0 MIMEDIR//EN
VERSION:2.0
METHOD:PUBLISH
BEGIN:VEVENT
DTSTART:20260426T140000
DTEND:20260705T170000
LOCATION:Regionalmuseum Gantrisch Leimern 5, 3150 Schwarzenburg
TRANSP:OPAQUE
RRULE:FREQ=WEEKLY;INTERVAL=1;UNTIL=20260705T170000;WKST=MO;BYDAY=SU
UID:5d560e83-6dce-4d11-9ccc-0da69bbfb952-0
DTSTAMP:20260426T140000
DESCRIPTION:Vom 12. April bis 22. November präsentiert das Regionalmuseum Gantrisch die Ausstellung «potztuusig plus 1!».\n\n2025 feierte Schwarzenburg ein ganz besonderes Jubiläum: 1000 Jahre Geschichte und Geschichten. Auch in der Ausstellung im Museum hat das Jubiläumsjahr seine Spuren hinterlassen.\nIm Eingangsbereich bilden die Einblicke in die Konzerte, Feste, Theateraufführungen, Kunstinstallationen und -ausstellungen, Buchvernissagen, Lesungen und Vorträge 2025 ein buntes Gegenüber zum eher nüchternen Auftakt im Jahr der Ersterwähnung vor bald 1000 Jahren. Im Dachstock sind die 1000 Porträts aus dem gleichnamigen Jubiläumsprojekt, die bereits am Dorffest auf grosses Interesse stiessen, noch bis Ende Saison ausgestellt.\n\nDas Regionalmuseum Gantrisch lädt Sie ein, mit der Ausstellung «potztuusig!» eine faszinierende Reise durch die Zeit mitzuerleben. Von den ersten verbrieften Rodungen bis hin zu den prägenden Ereignissen der Neuzeit – die Ausstellung beleuchtet Themen wie Herrschaft und Ohnmacht, Wirtschaft und Armut sowie die Geschichten von Ausgewanderten und Dagebliebenen. \n\nMit Audiostationen, vielen alten und neuen Fotos, partizipativen Elementen und einem Objekt-Zeitstrahl wird die Vergangenheit lebendig. Die Ausstellung ist nicht nur ein Blick zurück, sondern auch eine Einladung, die Zukunft Schwarzenburgs mitzugestalten. \n\nKommen Sie vorbei, lassen Sie sich inspirieren und entdecken Sie, was Schwarzenburg zu bieten hatte und weiterhin zu bieten hat. Wir freuen uns auf Ihren Besuch.\n\nhttp://www.museumgantrisch.ch\n\nVerfügbarkeit / Datum, Zeit\n12.4.2026 - 5.7.2026 14:00 - 17:00 So\n9.8.2026 - 22.11.2026 14:00 - 17:00 So\n\nBesichtigungen und Führungen für Gruppen und Schulklassen sind von April bis November jederzeit möglich.\n\nPreis\nErwachsene: CHF 8.00\nKinder: CHF 4.00\nGruppen ab 10 Personen: CHF 7.00\n\n\nDas Angebot im Detail: https://www.guidle.com/angebote/1246889188/potztuusig_plus_1_die_ausstellung_zu_1000_jahre_schwarzenburg/schwarzenburg\nQuelle: https://www.guidle.com
SUMMARY:«potztuusig plus 1! Die Ausstellung zu 1000 Jahre Schwarzenburg»
PRIORITY:5
X-MICROSOFT-CDO-IMPORTANCE:1
CLASS:PUBLIC
BEGIN:VALARM
TRIGGER:-P1D
ACTION:DISPLAY
DESCRIPTION:Reminder
END:VALARM
END:VEVENT
END:VCALENDAR