BEGIN:VCALENDAR
PRODID:-//Microsoft Corporation//Outlook 11.0 MIMEDIR//EN
VERSION:2.0
METHOD:PUBLISH
BEGIN:VEVENT
DTSTART:20260501T173000
DTEND:20260501T200000
LOCATION:Regionalmuseum Gantrisch Leimern 5, 3150 Schwarzenburg
TRANSP:OPAQUE
SEQUENCE:0
UID:a11f2333-5f1c-4e4a-8dc6-135f5e7e0023-0
DTSTAMP:20260501T173000
DESCRIPTION:Dieses Jahr können Sie an vier Freitagen Ihren Feierabend im Museum geniessen. Das erste Getränk ist im Eintrittspreis von CHF 10.- inklusive. Alle Ausstellungsräume sind geöffnet. Im Nebengebäude servieren wir verschiedene Getränke mit und ohne Alkohol und natürlich ein Museumsbier.\n\nDie üblichen Gratiseintritte können nicht akzeptiert werden.\n\nhttps://www.museumgantrisch.ch\n\nKontakt\nRegionalmuseum Gantrisch\nLeimern 5\n3150 Schwarzenburg\n031 808 00 20\n\nVerfügbarkeit / Datum, Zeit\n1.5.2026 17:30 - 20:00\n5.6.2026 17:30 - 20:00\n21.8.2026 17:30 - 20:00\n25.9.2026 17:30 - 20:00\n\nPreis\nEintritt: CHF 10.- inkl. 1. Getränk\n\n\n\nDas Angebot im Detail: https://www.guidle.com/angebote/1246889251/museumsbier_im_regionalmuseum_gantrisch/schwarzenburg\nQuelle: https://www.guidle.com
SUMMARY:Museumsbier im Regionalmuseum Gantrisch
PRIORITY:5
X-MICROSOFT-CDO-IMPORTANCE:1
CLASS:PUBLIC
BEGIN:VALARM
TRIGGER:-P1D
ACTION:DISPLAY
DESCRIPTION:Reminder
END:VALARM
END:VEVENT
END:VCALENDAR