BEGIN:VCALENDAR
PRODID:-//Microsoft Corporation//Outlook 11.0 MIMEDIR//EN
VERSION:2.0
METHOD:PUBLISH
BEGIN:VEVENT
DTSTART:20260424
LOCATION:Creaviva im Zentrum Paul Klee, Kindermuseum Creaviva Monument im Fruchtland 3, 3006 Bern
TRANSP:OPAQUE
RRULE:FREQ=WEEKLY;INTERVAL=1;UNTIL=20260429;WKST=MO;BYDAY=TU,WE,TH,FR,SA,SU
UID:7f49db5a-f0ce-4d41-bbbc-8f756a586186-0
DTSTAMP:20260424T120000
DESCRIPTION:<strong>Eine Stunde Kunst: Themen und Techniken der Ausstellungen setzen wir jeden Tag künstlerisch im Atelier um.</strong>\n\nWer Freude empfindet beim Gestalten in inspirierender Umgebung, ist im Offenen Atelier goldrichtig. Mehrmals täglich begleiten unsere Kunstvermittler:innen zu monatlich wechselnden Themen auf dem Weg zu einem persönlichen, unverwechselbaren Werk. Die Themen und Techniken ermöglichen durch eigenständiges Gestalten einen praktischen Zugang zur ausgestellten Kunst.\n\nDienstag bis Freitag um 14:00 / 16:00\nSamstag &amp; Sonntag um 12:00 / 14:00 / 16:00\nFür Ausnahmen s. Website Creaviva/Tickets\n\nDauer: 1 Stunde\nPersonen mit Ausweisen der Kategorie S, N und F nehmen kostenlos teil\nFür Kinder ab 4 Jahren, Jugendliche, Erwachsene und die ganze Familie, bis 8 Jahre in Begleitung eines Erwachsenen\n\n<a href="https://www.zpk.org/de/workshop/merz-im-april"><strong>Offenes Atelier im April: Merz im April</strong></a>\n\nSchnipsel, Holzreste und bunte Fundstücke landen wild auf unserer 20×20 cm Holzunterlage. Wir legen, schichten, verschieben und staunen, wie Chaos zu Kunst wird. Ein bisschen schräg und dada wird es im April und jede Bricollage erzählt ihre eigene kleine Geschichte.\n\nVerfügbarkeit / Datum, Zeit\n1.4.2026 - 29.4.2026  Di, Mi, Do, Fr, Sa, So\n\n\nDas Angebot im Detail: https://www.guidle.com/angebote/1247259841/offenes_atelier_im_april_merz_im_april/bern\nQuelle: https://www.guidle.com
SUMMARY:Offenes Atelier im April: Merz im April
PRIORITY:5
X-MICROSOFT-CDO-IMPORTANCE:1
CLASS:PUBLIC
BEGIN:VALARM
TRIGGER:-P1D
ACTION:DISPLAY
DESCRIPTION:Reminder
END:VALARM
END:VEVENT
END:VCALENDAR