BEGIN:VCALENDAR
PRODID:-//Microsoft Corporation//Outlook 11.0 MIMEDIR//EN
VERSION:2.0
METHOD:PUBLISH
BEGIN:VEVENT
DTSTART:20260521T193000
DTEND:20260521T210000
LOCATION:Hochschule der Künste Bern HKB, KMS Kammermusiksaal Papiermühlestrasse 13a, 3014 Bern
TRANSP:OPAQUE
SEQUENCE:0
UID:38cd134e-a2a0-4aa0-955b-a58563184159-0
DTSTAMP:20260521T193000
DESCRIPTION:Jedes Semester finden an der HKB im Fachbereich Musik Klassik rund 70 Klassenauditionen satt, in denen Studierende mit aktuellen Programmen aus ihrem jeweiligen Kernfach auftreten und dabei von Dozierenden gecoacht werden.\n\n<a href="https://www.hkb.bfh.ch/de/aktuell/kulturelle-veranstaltungen/konzerte/musik-klassenauditionen/">Übersicht Klassenauditionen FS 26 | HKB</a>\n\nVerfügbarkeit / Datum, Zeit\n21.5.2026 19:30 - 21:00\n\n\nDas Angebot im Detail: https://www.guidle.com/angebote/1247261901/klassenaudition_horn_studierende_der_klasse_von_christian_lampert/bern\nQuelle: https://www.guidle.com
SUMMARY:Klassenaudition Horn, Studierende der Klasse von Christian Lampert
PRIORITY:5
X-MICROSOFT-CDO-IMPORTANCE:1
CLASS:PUBLIC
BEGIN:VALARM
TRIGGER:-P1D
ACTION:DISPLAY
DESCRIPTION:Reminder
END:VALARM
END:VEVENT
END:VCALENDAR