BEGIN:VCALENDAR
PRODID:-//Microsoft Corporation//Outlook 11.0 MIMEDIR//EN
VERSION:2.0
METHOD:PUBLISH
BEGIN:VEVENT
DTSTART:20260428
LOCATION:Salle communale de Martigny Rue des Petits-Epineys 7, 1920 Martigny
TRANSP:OPAQUE
SEQUENCE:0
UID:70e7b6e3-24a4-4d22-9b2c-ab9d64d7b871-0
DTSTAMP:20260428T120000
DESCRIPTION:Dieses Treffen beleuchtet die Forschungen, die auf der Insula 9 der römischen Ausgrabungsstätte durchgeführt wurden, durch die Beiträge von<b>Anne-Laure Couchepin Vouilloz</b>, Präsidentin der Stadt Martigny, und <b>Caroline Brunetti</b>, Kantonsarchäologin. <b>Olivier Paccolat</b>, Verantwortlicher für die Publikation und Verwaltungsdirektor von InSitu Archéologie SA, wird das Werk vorstellen.\n\nAnschliessend halten <b>Evelyne Broillet und Sylvie Garnerie</b> einen Vortrag über die Thematik der antiken Wandmalerei, die an diesem Ort zu Tage gefördert wurde.\n\nDer Abend endet mit einem Aperitif, der von der Stadt Martigny und der Association archéologique d'Octodure angeboten wird.\n\n<b>Für weitere Informationen wenden Sie sich bitte an den Organisator.</b>\n\nhttps://www.archeo-octodure.ch/activit%C3%A9s\n\nKontakt\nAssociation archéologique d'Octodure\ncase postale 59\n1920  Martigny\n\nVerfügbarkeit / Datum, Zeit\n28.4.2026 \n\n\nDas Angebot im Detail: https://www.guidle.com/angebote/1248958327/salle_communale__vernissage_de_la_publication_de_linsula_9_de/martigny\nQuelle: https://www.guidle.com
SUMMARY:Salle communale : Vernissage de la publication de l'insula 9 [DE]
PRIORITY:5
X-MICROSOFT-CDO-IMPORTANCE:1
CLASS:PUBLIC
BEGIN:VALARM
TRIGGER:-P1D
ACTION:DISPLAY
DESCRIPTION:Reminder
END:VALARM
END:VEVENT
END:VCALENDAR