BEGIN:VCALENDAR
PRODID:-//Microsoft Corporation//Outlook 11.0 MIMEDIR//EN
VERSION:2.0
METHOD:PUBLISH
BEGIN:VEVENT
DTSTART:20260617T174500
DTEND:20260617T210000
LOCATION:Nucleus Bike Store / Ride La Val Bikeschule Via Val Müstair 228, 7537 Müstair
TRANSP:OPAQUE
SEQUENCE:0
UID:a0ab1b8e-7dc7-4ce3-a27a-429a4c066fd4-0
DTSTAMP:20260617T174500
DESCRIPTION:Gemeinsam unterwegs – egal ob jung oder alt, erfahren oder Einsteigerin, im Turbo- oder Eco-Modus.\nWir starten in Müstair und beginnen mit einem Fahrtechniktraining (Basics) in „Plazzöl“. Anschliessend geniessen wir gemeinsam eine entspannte Feierabendrunde auf dem E-Bike.\n\nZum Abschluss lassen wir den gelungenen Tag gemütlich im Bike Store ausklingen und stossen gemeinsam an.\n\nFahrrad: E-Bike\nFahrtechnik: BASICS (leicht) \n\nDie Teilnahme kostet CHF 10 pro Person. \nEine Anmeldung bis am Montagabend ist über folgenden Link obligatorisch. \n\nhttps://www.graubuenden.ch/de/las-ciclistas/mittwoch-events\n\nKontakt\nRide La Val\nNicole Tschenett\n7537 Müstair\n081 552 02 00\n\nVerfügbarkeit / Datum, Zeit\n17.6.2026 17:45 - 21:00\n\nPreis\nCHF 10 pro Teilnehmerin\n\n\nDas Angebot im Detail: https://www.guidle.com/angebote/1249341711/ciclistas_am_mittwoch_e-bike_fahrtechniktraining_mit_ride_out/mustair\nQuelle: https://www.guidle.com
SUMMARY:Ciclistas am Mittwoch, E-Bike Fahrtechniktraining mit Ride out
PRIORITY:5
X-MICROSOFT-CDO-IMPORTANCE:1
CLASS:PUBLIC
BEGIN:VALARM
TRIGGER:-P1D
ACTION:DISPLAY
DESCRIPTION:Reminder
END:VALARM
END:VEVENT
END:VCALENDAR