BEGIN:VCALENDAR
PRODID:-//Microsoft Corporation//Outlook 11.0 MIMEDIR//EN
VERSION:2.0
METHOD:PUBLISH
BEGIN:VEVENT
DTSTART:20260419
LOCATION:Galerie du Calvaire Rue du Château 2, 1663 Gruyères
TRANSP:OPAQUE
SEQUENCE:0
UID:24bf893e-5ff7-4003-94f1-cd226f27bc73-0
DTSTAMP:20260419T120000
DESCRIPTION:Unter dem Namen Art & Motorcycle vereint diese Ausstellung passionierte Kreative, die sich künstlerisch mit der Welt der Motorräder auseinandersetzen. Visuelle Werke, Skulpturen aus mechanischen Teilen sowie vom Motorraduniversum inspirierte Objekte bilden ein originelles Gesamtbild zwischen Kunst und Motorradkultur.\nDas Projekt wird seit mehreren Jahren in Gruyères präsentiert und verfolgt zudem einen solidarischen Ansatz: Die Einnahmen werden an das Foyer St-Germain in Gruyères gespendet.\n\nhttps://fribourg.ch/de/la-gruyere/veranstaltungen/galerie-calvaire-8211-exposition-8211-art-038-motorcycle-8211-emmnauel-joffet/\n\nKontakt\nGalerie du Calvaire\n1663 Gruyères\n+41 26 919 85 00\n\nVerfügbarkeit / Datum, Zeit\n19.4.2026 \n\n\nDas Angebot im Detail: https://www.guidle.com/angebote/1249441817/galerie_calvaire__exposition__art__motorcycle__emmnauel_joffet/gruyeres\nQuelle: www.guidle.com
SUMMARY:Galerie Calvaire – Exposition – Art & Motorcycle – Emmnauel Joffet
PRIORITY:5
X-MICROSOFT-CDO-IMPORTANCE:1
CLASS:PUBLIC
BEGIN:VALARM
TRIGGER:-P1D
ACTION:DISPLAY
DESCRIPTION:Reminder
END:VALARM
END:VEVENT
END:VCALENDAR