BEGIN:VCALENDAR
PRODID:-//Microsoft Corporation//Outlook 11.0 MIMEDIR//EN
VERSION:2.0
METHOD:PUBLISH
BEGIN:VEVENT
DTSTART:20260708T174500
DTEND:20260708T210000
LOCATION:Nucleus Bike Store / Ride La Val Bikeschule Via Val Müstair 228, 7537 Müstair
TRANSP:OPAQUE
SEQUENCE:0
UID:8bc1377a-bd9a-4ab9-aec6-9349353a6b4d-0
DTSTAMP:20260708T174500
DESCRIPTION:Wir shutteln ab Müstair hinauf in die frische Bergluft, geniessen die letzten Sonnenstrahlen im Gesicht und die Stille der Natur.\nAuf einer entspannten Feierabendrunde surfen wir über die Trails von Minschuns oder Tschierv zurück nach Müstair – von flowig-blau bis hin zu einigen kniffligen roten Passagen.\n\nZum Abschluss lassen wir den Abend gemütlich in unserem Bikestore Nucleus ausklingen und stossen gemeinsam an.\n\nFahrrad: Bike oder E-Bike\nFahrtechnik: Trailerfahrung ist erforderlich / Fortgeschritten\n\nDie Teilnahme kostet CHF 20 pro Person. \nEine Anmeldung bis spätestens am Montagabend 6. Juli obligatorisch. \n\nhttps://www.graubuenden.ch/de/las-ciclistas/mittwoch-events\n\nKontakt\nRide La Val\nNicole Tschenett\n7537 Müstair\n081 552 02 00\n\nVerfügbarkeit / Datum, Zeit\n8.7.2026 17:45 - 21:00\n\nPreis\nCHF 20 pro Teilnehmerin\n\nVorverkauf\noffice@ridelaval.com \n081 552 02 00 \nhttps://ridelaval.com oder direkt im Bikeshop\nhttps://ridelaval.com/\n\n\nDas Angebot im Detail: https://www.guidle.com/angebote/1249824140/ciclistas_am_mittwoch_feierabend_rideout_mit_shuttle/mustair\nQuelle: https://www.guidle.com
SUMMARY:Ciclistas am Mittwoch, Feierabend Rideout mit Shuttle
PRIORITY:5
X-MICROSOFT-CDO-IMPORTANCE:1
CLASS:PUBLIC
BEGIN:VALARM
TRIGGER:-P1D
ACTION:DISPLAY
DESCRIPTION:Reminder
END:VALARM
END:VEVENT
END:VCALENDAR