BEGIN:VCALENDAR
PRODID:-//Microsoft Corporation//Outlook 11.0 MIMEDIR//EN
VERSION:2.0
METHOD:PUBLISH
BEGIN:VEVENT
DTSTART:20260426T140000
LOCATION:3150 Schwarzenburg
TRANSP:OPAQUE
SEQUENCE:0
UID:7d121c03-b8c2-455f-a0b0-9efa472d7f9b-0
DTSTAMP:20260426T140000
DESCRIPTION:Wär dr Wyu u Viduz het söu doch am Sunnti, Ändi Oschtermonet, nach em Mittag zum "Alte Kino" vis à vis Restaurant Bühl in Schwarzenburg cho.\n\nUfem ne Spaziergang dür üses schöne Dorf verzeue i Öich öppis über luschtegi Gegäbeheite u Fisimatente vo anno dazumau.\n\nI fröie mi uf Öich! Härzlech Sandra Bangerter\n\nEs ladt y d FDP Sektion Schwarzeburg\n\nVerfügbarkeit / Datum, Zeit\n26.4.2026 14:00 - \n\nSpaziergang ca. 1 Stunde\n\nPreis\nkostenlos Dank Sponsoring FDP Sektion Schwarzenburg\n\n\nDas Angebot im Detail: https://www.guidle.com/angebote/1249835118/dorffuhrung_buffle_bugle_u_blache_ds_blackburry/schwarzenburg\nQuelle: https://www.guidle.com
SUMMARY:Dorfführung: Büffle, Bügle u Bläche ds Blackburry
PRIORITY:5
X-MICROSOFT-CDO-IMPORTANCE:1
CLASS:PUBLIC
BEGIN:VALARM
TRIGGER:-P1D
ACTION:DISPLAY
DESCRIPTION:Reminder
END:VALARM
END:VEVENT
END:VCALENDAR