BEGIN:VCALENDAR
PRODID:-//Microsoft Corporation//Outlook 11.0 MIMEDIR//EN
VERSION:2.0
METHOD:PUBLISH
BEGIN:VEVENT
DTSTART:20260617T190000
LOCATION:Sportplatz Lenzerheide, Lenzerheide, 7078 Lenzerheide/Lai
TRANSP:OPAQUE
SEQUENCE:0
UID:063ef3f0-2161-4d5a-a390-e774d23da995-0
DTSTAMP:20260617T190000
DESCRIPTION:Gemeinsam unterwegs auf dem E-Bike mit Sofia Wiedenroth, Lara und Baba. Bei dieser entspannten Feierabendtour stehen die Freude am Fahren, der Austausch und das gemeinsame Erlebnis im Mittelpunkt. Unterwegs erhältst du praxisnahe Techniktipps, die dir mehr Sicherheit und Flow auf dem Bike geben. Im Anschluss lassen wir den Abend entspannt bei einem gemeinsamen Apéro ausklingen.\n\nFahrrad: E-Bike\nLevel: ALLE\n\nEine Anmeldung bis am Montagabend ist über folgenden Link obligatorisch.\n\nhttps://docs.google.com/forms/d/e/1FAIpQLSf9yi1C5jgALxSS8m38nN9uqVDkB9YnlSoFDOF0f01cs1dHBw/viewform\n\nVerfügbarkeit / Datum, Zeit\n17.6.2026 19:00 - \n\n\nDas Angebot im Detail: https://www.guidle.com/angebote/1249842102/ciclistas_am_mittwoch_e-bike_feierabendrunde_mit_techniktipps/lenzerheidelai\nQuelle: https://www.guidle.com
SUMMARY:Ciclistas am Mittwoch, E-Bike Feierabendrunde mit Techniktipps
PRIORITY:5
X-MICROSOFT-CDO-IMPORTANCE:1
CLASS:PUBLIC
BEGIN:VALARM
TRIGGER:-P1D
ACTION:DISPLAY
DESCRIPTION:Reminder
END:VALARM
END:VEVENT
END:VCALENDAR