BEGIN:VCALENDAR
PRODID:-//Microsoft Corporation//Outlook 11.0 MIMEDIR//EN
VERSION:2.0
METHOD:PUBLISH
BEGIN:VEVENT
DTSTART:20260509T110000
DTEND:20260509T150000
LOCATION:Rhyality Immersive Art Hall, Halle 1, SIG Areal Industrieplatz 1, 8212 Neuhausen
TRANSP:OPAQUE
SEQUENCE:0
UID:5e29f3f2-ab57-4a71-b872-317a421382e8-0
DTSTAMP:20260509T110000
DESCRIPTION:Erleben Sie eine Auswahl unserer immersiven Shows, von interaktiven Märchenwelten über historische Erlebnisse, die Schaffhausen im Mittelalter lebendig werden lassen, bis hin zu kreativen Kunstshows wie Eternity sowie eindrucksvollen Naturerlebnissen wie dem Rheinfall in seinen vier Jahreszeiten.\nDie Vorführungen geben Ihnen einen lebendigen Einblick in unsere immersiven Welten und sorgen für ein Erlebnis, welches in Erinnerung bleibt.\nOb spontan vorbeischauen oder gezielt eine Show auswählen, die öffentlichen Vorführungen sind die ideale Gelegenheit, in die Welt der immersiven Kunst einzutauchen.\nVon gross bis klein, von Naturliebhaber*innen bis zu Kunstinteressent*innen, ist für jeden Geschmack etwas dabei.\n\nBitte beachten Sie, dass aufgrund gebuchter Events öffentliche Vorführungen kurzfristig entfallen können. Die definitiven Öffnungszeiten sowie das aktuelle Programm und die Spielzeiten finden Sie auf unserer Website.\n\nhttps://rhyality.com/\n\nKontakt\nRhyality \nImmersive Art Hall\nIndustrieplatz 1\n8212 Neuhausen am Rheinfall\n\nVerfügbarkeit / Datum, Zeit\n9.5.2026 11:00 - 15:00\n16.5.2026 11:00 - 15:00\n23.5.2026 11:00 - 15:00\n30.5.2026 11:00 - 15:00\n13.6.2026 11:00 - 15:00\n20.6.2026 11:00 - 15:00\n11.7.2026 11:00 - 15:00\n18.7.2026 11:00 - 15:00\n25.7.2026 11:00 - 15:00\n12.9.2026 11:00 - 15:00\n19.9.2026 11:00 - 15:00\n26.9.2026 11:00 - 15:00\n10.10.2026 11:00 - 15:00\n17.10.2026 11:00 - 15:00\n\nVorverkauf\nhttps://schaffhauserland.ch/buchen/angebote-erlebnisse/erlebnisse/rhyality-shop.html#/\n\n\nDas Angebot im Detail: https://www.guidle.com/angebote/1250605004/offentliche_vorfuhrungen_in_der_rhyality/neuhausen\nQuelle: https://www.guidle.com
SUMMARY:Öffentliche Vorführungen in der Rhyality
PRIORITY:5
X-MICROSOFT-CDO-IMPORTANCE:1
CLASS:PUBLIC
BEGIN:VALARM
TRIGGER:-P1D
ACTION:DISPLAY
DESCRIPTION:Reminder
END:VALARM
END:VEVENT
END:VCALENDAR