BEGIN:VCALENDAR
PRODID:-//Microsoft Corporation//Outlook 11.0 MIMEDIR//EN
VERSION:2.0
METHOD:PUBLISH
BEGIN:VEVENT
DTSTART:20260502T110000
DTEND:20260502T150000
LOCATION:Rhyality Immersive Art Hall, Halle 1, SIG Areal Industrieplatz 1, 8212 Neuhausen
TRANSP:OPAQUE
SEQUENCE:0
UID:b44e96c2-c4c8-4964-82fc-6cdfaf25d8a0-0
DTSTAMP:20260502T110000
DESCRIPTION:Ein Tag voller Abenteuer und Kreativität für die Kleinen.\nErleben Sie unsere drei immersiven Kindermärchen rund um eine Gruppe ungewöhnlicher Freunde, von ihrer Reise zum Rheinfall, über neue Begegnungen, bis hin zu einem spannenden Rettungsabenteuer in Venedig.\nAls Begleitung zu den immersiven Shows erwartet die Kinder ein kreativer Bastelspass.\nMit liebevoll gestalteten Ausmalbildern der Figuren aus den Märchen, coolen Sticker-Elementen, Glitzer und weiteren Extras können sie ihrer Fantasie freien Lauf lassen, gestalten, kleben und ihr eigenes Kunstwerk mit nach Hause nehmen.\nEin Erlebnis zum Eintauchen, Mitmachen und Kreativsein, perfekt für kleine Entdeckerinnen und Entdecker.\n\nBitte beachten Sie, dass aufgrund gebuchter Events öffentliche Vorführungen entfallen können. Die definitiven Öffnungszeiten sowie das aktuelle Programm und die Spielzeiten finden Sie auf unserer Website.\n\nhttps://rhyality.com/\n\nKontakt\nRhyality \nImmersive Art Hall\nIndustrieplatz 1\n8212 Neuhausen am Rheinfall\n\nVerfügbarkeit / Datum, Zeit\n2.5.2026 11:00 - 15:00\n6.6.2026 11:00 - 15:00\n4.7.2026 11:00 - 15:00\n1.8.2026 11:00 - 15:00\n5.9.2026 11:00 - 15:00\n3.10.2026 11:00 - 15:00\n\nVorverkauf\nhttps://schaffhauserland.ch/buchen/angebote-erlebnisse/erlebnisse/rhyality-shop.html#/\n\n\nDas Angebot im Detail: https://www.guidle.com/angebote/1250610140/kindertag_mit_bastelspass_in_der_rhyality/neuhausen\nQuelle: https://www.guidle.com
SUMMARY:Kindertag mit Bastelspass in der Rhyality
PRIORITY:5
X-MICROSOFT-CDO-IMPORTANCE:1
CLASS:PUBLIC
BEGIN:VALARM
TRIGGER:-P1D
ACTION:DISPLAY
DESCRIPTION:Reminder
END:VALARM
END:VEVENT
END:VCALENDAR