BEGIN:VCALENDAR
PRODID:-//Microsoft Corporation//Outlook 11.0 MIMEDIR//EN
VERSION:2.0
METHOD:PUBLISH
BEGIN:VEVENT
DTSTART:20260819T171500
DTEND:20260819T210000
LOCATION:medelina Via Canduglias 13, 7184 Curaglia
TRANSP:OPAQUE
SEQUENCE:0
UID:73c6ed1c-34e8-40cf-9e3b-e77c91f59eb1-0
DTSTAMP:20260819T171500
DESCRIPTION:Gemütliche Bike-Runde mit lässigen Technik Tipps unterwegs . Anschliessend gemütliches Beisammensein feiner Suppe im Hotel Meldelina und abschliessender Klangschalen-Session. \n\nAdriana & Annina sind an diesen Abend deine Bikeguides und zeigen dir die schönsten Trails passend für dein Niveau. Unterwegs machen wir einen kleinen Technik Workshop. Praxisnah, locker und für alle die etwas lernen möchten. Keine trockene Theorie, sondern Tipps, die du direkt umsetzen kannst und das alles in einer unterstützenden, motivierenden Frauenrunde.\n\nTreffpunkt: Hotel Medelina, Curaglia\nZeit: 17:15 Uhr \n\nFür Alle: E-Bike oder Bio Bike\nLevel: Einsteigerinnen bis Fortgeschrittene\n\nDie Teilnahme an der Biketour und dem Technikworkshop ist gratis. Feine Gerstensuppe mit hausgemachtem Brot und einer kalten Bündner Platte wird vor Ort mit CHF 20 (exkl. Getränke) verrechnet. \n\nDie Teilnehmerzahl ist begrenzt. Wir bitten um Anmeldung bis spätestens Montag 17. August.\n\n\nhttps://www.graubuenden.ch/de/las-ciclistas/mittwoch-events\n\nKontakt\nBikeschule Disentis Sedrun \nAdriana Deplazes\nLeiterin Bikeschule\nVia Alpsu 64A\n7188 Sedrun\n\nVerfügbarkeit / Datum, Zeit\n19.8.2026 17:15 - 21:00\n\nPreis\nDie Teilnahme an der Biketour und dem Technikworkshop ist gratis. Feine Gerstensuppe mit hausgemachtem Brot und einer kalten Bündner Platte wird vor Ort mit CHF 20 (exkl. Getränke) verrechnet. \n\nVorverkauf\nhttps://www.bikedisentis-sedrun.ch/detail/article/las-ciclistas-curaglia-19082026/\n\n\nDas Angebot im Detail: https://www.guidle.com/angebote/1250611266/ciclistas_am_mittwoch_gemutlicher_bikeausflug_mit_techniktipps/curaglia\nQuelle: https://www.guidle.com
SUMMARY:Ciclistas am Mittwoch, Gemütlicher Bikeausflug mit Techniktipps
PRIORITY:5
X-MICROSOFT-CDO-IMPORTANCE:1
CLASS:PUBLIC
BEGIN:VALARM
TRIGGER:-P1D
ACTION:DISPLAY
DESCRIPTION:Reminder
END:VALARM
END:VEVENT
END:VCALENDAR