BEGIN:VCALENDAR
PRODID:-//Microsoft Corporation//Outlook 11.0 MIMEDIR//EN
VERSION:2.0
METHOD:PUBLISH
BEGIN:VEVENT
DTSTART:20260423T170000
DTEND:20260423T220000
LOCATION:Restaurant La Pierre à Catillon Case postale , 1663 Moléson-sur-Gruyères
TRANSP:OPAQUE
SEQUENCE:0
UID:0b31dc9a-6674-473e-bed0-934c27afa6f4-0
DTSTAMP:20260423T170000
DESCRIPTION:Gegen Vorzeigen Ihres Helms können Sie von einem Sonderangebot profitieren: 2 Fondues zum Preis von einem, exklusiv für Motorradliebhaber!\n\nhttps://fribourg.ch/de/la-gruyere/veranstaltungen/das-motorrad-fondue/\n\nKontakt\nRestaurant La Pierre à Catillon\n1663 Moléson-sur-Gruyères\n+41 (0)26 921 10 41\n\nVerfügbarkeit / Datum, Zeit\n23.4.2026 17:00 - 22:00\n30.4.2026 17:00 - 22:00\n7.5.2026 17:00 - 22:00\n14.5.2026 17:00 - 22:00\n21.5.2026 17:00 - 22:00\n28.5.2026 17:00 - 22:00\n4.6.2026 17:00 - 22:00\n11.6.2026 17:00 - 22:00\n18.6.2026 17:00 - 22:00\n25.6.2026 17:00 - 22:00\n2.7.2026 17:00 - 22:00\n9.7.2026 17:00 - 22:00\n16.7.2026 17:00 - 22:00\n23.7.2026 17:00 - 22:00\n30.7.2026 17:00 - 22:00\n6.8.2026 17:00 - 22:00\n13.8.2026 17:00 - 22:00\n20.8.2026 17:00 - 22:00\n27.8.2026 17:00 - 22:00\n3.9.2026 17:00 - 22:00\n10.9.2026 17:00 - 22:00\n17.9.2026 17:00 - 22:00\n24.9.2026 17:00 - 22:00\n1.10.2026 17:00 - 22:00\n8.10.2026 17:00 - 22:00\n15.10.2026 17:00 - 22:00\n22.10.2026 17:00 - 22:00\n29.10.2026 17:00 - 22:00\n\n\nDas Angebot im Detail: https://www.guidle.com/angebote/1252697623/das_motorrad-fondue/moleson-sur-gruyeres\nQuelle: https://www.guidle.com
SUMMARY:Das Motorrad-Fondue
PRIORITY:5
X-MICROSOFT-CDO-IMPORTANCE:1
CLASS:PUBLIC
BEGIN:VALARM
TRIGGER:-P1D
ACTION:DISPLAY
DESCRIPTION:Reminder
END:VALARM
END:VEVENT
END:VCALENDAR