BEGIN:VCALENDAR
PRODID:-//Microsoft Corporation//Outlook 11.0 MIMEDIR//EN
VERSION:2.0
METHOD:PUBLISH
BEGIN:VEVENT
DTSTART:20260424T193000
DTEND:20260424T210000
LOCATION:Tibet Museum - Fondation Alain Bordier Rue du Château 4, 1663 Gruyères
TRANSP:OPAQUE
SEQUENCE:0
UID:0c3fe33f-e43d-4fea-b9c7-2fd7ae67a6cf-0
DTSTAMP:20260424T193000
DESCRIPTION:Dechen Shak-Dagsay ist eine Schweizer Sängerin tibetischer Herkunft. Sie hat bereits mehrere ausverkaufte Konzerte im Tibet-Museum gegeben.\nGeboren in Nepal, suchten Dechen Shak-Dagsay und ihre Eltern 1963 Zuflucht in der Schweiz. Da sich ihre Familie der Bewahrung der tibetischen Kultur verschrieben hatte, studierte sie während ihrer Kindheit und Jugend tibetischen Tanz und Musik. 1989 gab sie ihr musikalisches Debüt mit der Maxi-Single „Bodhicitta“. Anschließend arbeitete sie in London an Bernardo Bertoluccis Film „Little Buddha“. Ihr erstes Album „Dewa Che“ erschien 1999. 2002 veröffentlichte sie ihr zweites Album „Shi De“, einen Aufruf zum Weltfrieden, und 2004 ihre dritte CD „Dcham Sem“. In den Jahren 2011 und 2014 nahm sie zwei Alben mit Tina Turner, Regula Curti und Sawani Shende-Sathaye auf. Insgesamt hat sie 13 Alben veröffentlicht und zahlreiche Konzerte weltweit gegeben.\nAm 24. April 2026 präsentiert sie im Tibet-Museum eine Akustikversion ihrer Musik, begleitet vom Flötisten Jürg Zurmühle.\nReservierung erforderlich: info@tibetmuseum.ch\n\nhttps://fribourg.ch/de/la-gruyere/veranstaltungen/road-to-harmony-8211-concert-acoustique-de-dechen-shak-dagsay/\n\nKontakt\nTibet Museum\n1663 Gruyères\n+41 (0)26 921 30 10\n\nVerfügbarkeit / Datum, Zeit\n24.4.2026 19:30 - 21:00\n\n\nDas Angebot im Detail: https://www.guidle.com/angebote/1252698886/road_to_harmony__concert_acoustique_de_dechen_shak-dagsay/gruyeres\nQuelle: www.guidle.com
SUMMARY:Road to Harmony – Concert acoustique de Dechen Shak-Dagsay
PRIORITY:5
X-MICROSOFT-CDO-IMPORTANCE:1
CLASS:PUBLIC
BEGIN:VALARM
TRIGGER:-P1D
ACTION:DISPLAY
DESCRIPTION:Reminder
END:VALARM
END:VEVENT
END:VCALENDAR