BEGIN:VCALENDAR
PRODID:-//Microsoft Corporation//Outlook 11.0 MIMEDIR//EN
VERSION:2.0
METHOD:PUBLISH
BEGIN:VEVENT
DTSTART:20260423T083000
DTEND:20261029T120000
LOCATION:Gemeindehausplatz Volketswil Zentralstrasse 21, 8604 Volketswil
TRANSP:OPAQUE
RRULE:FREQ=WEEKLY;INTERVAL=1;UNTIL=20261029T120000;WKST=MO;BYDAY=TH
UID:878fc18b-efd9-4275-a3f5-795c1350a659-0
DTSTAMP:20260423T083000
DESCRIPTION:Jeden Donnerstag von 8:30 bis 12:00 Uhr findet auf dem Gemeindehausplatz Volketswil der Wochenmarkt statt (Essenstände bis 13:00 Uhr geöffnet). Der Markt bietet eine grosse Auswahl an frischen und kreativen Produkten: Brot, Gemüse, Früchte, Käse, Fisch, Fleischspezialitäten und Blumen. Auch das Mittagsangebot lässt keine Wünsche offen: von Pizza über orientalische Spezialitäten bis hin zu Grillgerichten, Pommes, Spaghetti und vielem mehr.\n\nNeben dem Einkauf steht auch die Geselligkeit im Mittelpunkt – ein Treffpunkt für Begegnungen, Genuss und gute Gespräche. Ein Besuch lohnt sich jede Woche aufs Neue!\n\nhttps://www.volketswil.ch/freizeit-und-kultur/maert.html/57\n\nKontakt\nGemeinschaftszentrum "In der Au"\nGemeinschaftszentrum Volketswil\nIn der Au 1\n1\n8604 Volketswil\n0449102070\n\nVerfügbarkeit / Datum, Zeit\n23.4.2026 - 29.10.2026 08:30 - 12:00 Do\n\nPreis\nGratis\n\n\nDas Angebot im Detail: https://www.guidle.com/angebote/1253097170/wochenmarkt/volketswil\nQuelle: www.guidle.com
SUMMARY:Wochenmarkt
PRIORITY:5
X-MICROSOFT-CDO-IMPORTANCE:1
CLASS:PUBLIC
BEGIN:VALARM
TRIGGER:-P1D
ACTION:DISPLAY
DESCRIPTION:Reminder
END:VALARM
END:VEVENT
END:VCALENDAR