BEGIN:VCALENDAR
PRODID:-//Microsoft Corporation//Outlook 11.0 MIMEDIR//EN
VERSION:2.0
METHOD:PUBLISH
BEGIN:VEVENT
DTSTART:20260503T083000
DTEND:20260503T180000
LOCATION:Verein für Soziale Bildung Im Schossacher 17, 8600 Dübendorf
TRANSP:OPAQUE
SEQUENCE:0
UID:6af7e722-b8a9-4d8d-8f82-25a4f8bb1de3-0
DTSTAMP:20260503T083000
DESCRIPTION:Im ganzen Erziehungs- und Sozialwesen stellt sich die Frage, wie eine freie und nachhaltige Zusammenarbeit zustande kommen kann, die von menschlicher Verbundenheit und Freude am Leben getragen ist. Eine Grundlage ist, dass die Erzieher dem anderen Menschen zugeneigt sind, ein grosses Interesse am anderen und allen Vorgängen in der Welt haben und sich gerne psychologisch immer weiter bilden wollen.\n\nMan muss wissen, dass jeder Mensch darauf aus ist, Bedeutung zu haben und dazugehören zu können. Verweigert sich ein Kind, ist eine Jugendliche heftig, zieht sich ein Mädchen in ihr Zimmer zurück und ist nicht ansprechbar, verweigert sich ein Junge beim Lernen, lässt sich ein Jugendlicher immer wieder bitten und macht scheinbar nie mit, dann ist das erklärbar, wenn man neugierig sein kann. Es gibt immer eine nachvollziehbare und meist unbewusste Eigen-Logik. Lernen wir diese kennen, kommen wir emotional näher.\n\nAlle Eltern und Erzieher machen es so gut sie können. Doch oft stehen sie zunächst vor einem Rätsel. Es braucht viel Wissen darüber, wie man den seelischen Haushalt, die Eigen-Logik und die unverstandenen Gefühlsüberzeugungen im Alltag erfassen kann.\n\nAn diesem Seminar erarbeiten wir uns, wie eine freie Kooperation in verschiedensten Situationen aussehen kann, die auf einem Verständnis von Fühlen, Denken und Verhalten aller Beteiligten beruht. Diese Zusammenarbeit gelingt, wenn die Jugend erleben kann, wie befriedigend es ist, das reale Leben mit all den Herausforderungen und Aufgaben forschend anzugehen. Wenn es gelingt, ein eigenständiges Leben mit anderen verbunden gestalten zu können, ist das gesamte Leben reichhaltig und spannend.\n\nSie können die Einladung sehr gerne an andere Interessierte weiterleiten. Wir freuen uns auf einen lehrreichen gemeinsamen Tag.\n\nhttps://soziale-bildung.ch/freie-und-gefuehlsverbundene-begleitung-von-kindern-jugendlichen-und-schuelern-freude-am-realen-leben-entwickeln/\n\nKontakt\nVerein für Soziale Bildung\nSusanne Arnold\nKassier\n0041 56 664 20 28\n0041 79 457 13 20\n\nVerfügbarkeit / Datum, Zeit\n3.5.2026 08:30 - 18:00\n\n4 Module: 9.00 – 10.30, 11.00 – 12.30, 14.30 – 16.00, 16.30 – 18.00\n\nPreis\n80.- CHF\n\nVorverkauf\nhttps://soziale-bildung.ch/freie-und-gefuehlsverbundene-begleitung-von-kindern-jugendlichen-und-schuelern-freude-am-realen-leben-entwickeln/\n\n\nDas Angebot im Detail: https://www.guidle.com/angebote/1253112304/freude_am_realen_leben_entwickeln/dubendorf\nQuelle: https://www.guidle.com
SUMMARY:Freude am realen Leben entwickeln
PRIORITY:5
X-MICROSOFT-CDO-IMPORTANCE:1
CLASS:PUBLIC
BEGIN:VALARM
TRIGGER:-P1D
ACTION:DISPLAY
DESCRIPTION:Reminder
END:VALARM
END:VEVENT
END:VCALENDAR