BEGIN:VCALENDAR
PRODID:-//Microsoft Corporation//Outlook 11.0 MIMEDIR//EN
VERSION:2.0
METHOD:PUBLISH
BEGIN:VEVENT
DTSTART:20260429T200000
DTEND:20260429T214000
LOCATION:Collège du Cherrat, Salle de sport Chemin du Cherrat 7, 1162 St-Prex
TRANSP:OPAQUE
SEQUENCE:0
UID:edaf37ce-0501-463e-8cf7-a2f350570b54-0
DTSTAMP:20260429T200000
DESCRIPTION:Basketball Swiss Basketball League: Morges-Saint-Prex Red Devils — Lions de Genève U23 pwd by Grand-Saconnex\n\nKontakt\nSwiss Basketball League\n\nVerfügbarkeit / Datum, Zeit\n29.4.2026 20:00 - 21:40\n\n\nDas Angebot im Detail: https://www.guidle.com/angebote/1253128397/basketball_nlb_men_morges-saint-prex_red_devils__lions_de_geneve_u23_pwd_by_grand-saconnex/st-prex\nQuelle: https://www.guidle.com
SUMMARY:Basketball NLB Men: Morges-Saint-Prex Red Devils — Lions de Genève U23 pwd by Grand-Saconnex
PRIORITY:5
X-MICROSOFT-CDO-IMPORTANCE:1
CLASS:PUBLIC
BEGIN:VALARM
TRIGGER:-P1D
ACTION:DISPLAY
DESCRIPTION:Reminder
END:VALARM
END:VEVENT
END:VCALENDAR